BEGIN:VCALENDAR
VERSION:2.0
PRODID:icalendar-ruby
CALSCALE:GREGORIAN
METHOD:PUBLISH
BEGIN:VEVENT
DTSTAMP:20260420T144112Z
UID:event-17166-2025-06-19T20:30:00+02:00-none
DTSTART;TZID=Europe/Madrid:20250619T203000
DESCRIPTION:Logrando un equilibrio con baterías contundentes\, guitarras i
 mponentes y mensajes de crítica sociológica y política\, la banda const
 ituye un reflejo de la Australia moderna: agrietada\, sucia y empapada en 
 cerveza.
SUMMARY:Hoon\, desde la escena punk australiana
END:VEVENT
END:VCALENDAR
