BEGIN:VCALENDAR
VERSION:2.0
PRODID:icalendar-ruby
CALSCALE:GREGORIAN
METHOD:PUBLISH
BEGIN:VEVENT
DTSTAMP:20260419T130351Z
UID:event-16622-2025-06-28T11:00:00+02:00-2025-06-28T14:15:00+02:00
DTSTART;TZID=Europe/Madrid:20250628T110000
DTEND;TZID=Europe/Madrid:20250628T141500
DESCRIPTION:Del 27 de junio al 7 de julio\, la Plaza Porticada vuelve a aco
 ger a FELISA\, la Feria del Libro de Santander y Cantabria\, que convoca a
  la ciudadanía bajo el lema “¡Nos leemos en la Plaza!”.
SUMMARY:Hoy en Felisa 25: Encuentros con Sivia Intxaurrondo\, Aixa de la Cr
 uz\, Maxi Iglesias\, Andrés Neuman y Alberto Santamaría
END:VEVENT
BEGIN:VEVENT
DTSTAMP:20260419T130351Z
UID:event-16622-2025-06-28T17:00:00+02:00-2025-06-28T22:00:00+02:00
DTSTART;TZID=Europe/Madrid:20250628T170000
DTEND;TZID=Europe/Madrid:20250628T220000
DESCRIPTION:Del 27 de junio al 7 de julio\, la Plaza Porticada vuelve a aco
 ger a FELISA\, la Feria del Libro de Santander y Cantabria\, que convoca a
  la ciudadanía bajo el lema “¡Nos leemos en la Plaza!”.
SUMMARY:Hoy en Felisa 25: Encuentros con Sivia Intxaurrondo\, Aixa de la Cr
 uz\, Maxi Iglesias\, Andrés Neuman y Alberto Santamaría
END:VEVENT
END:VCALENDAR
