BEGIN:VCALENDAR
VERSION:2.0
PRODID:icalendar-ruby
CALSCALE:GREGORIAN
METHOD:PUBLISH
BEGIN:VEVENT
DTSTAMP:20260424T165335Z
UID:event-16133-2025-05-01T18:00:00+02:00-none
DTSTART;TZID=Europe/Madrid:20250501T180000
DESCRIPTION:Cuando se cumple el primer aniversario del fallecimiento del ba
 jista Dani Simons\, su familia\, amigos y compañeros de profesión le rin
 den un sentido homenaje con este evento que se celebrará en Escenario San
 tander el 1 de mayo.
SUMMARY:I Memorial Dani Simons
END:VEVENT
END:VCALENDAR
