BEGIN:VCALENDAR
VERSION:2.0
PRODID:icalendar-ruby
CALSCALE:GREGORIAN
METHOD:PUBLISH
BEGIN:VEVENT
DTSTAMP:20260420T173345Z
UID:event-20363-2026-05-01T21:30:00+02:00-none
DTSTART;TZID=Europe/Madrid:20260501T213000
DESCRIPTION:El nombre del grupo está tomado de una de las canciones más e
 mblemáticas incluidas en el último álbum de estudio de Héroes del Sile
 ncio\, Avalancha.
SUMMARY:Iberia Sumergida. Tributo a Héroes del Silencio
END:VEVENT
END:VCALENDAR
