BEGIN:VCALENDAR
VERSION:2.0
PRODID:icalendar-ruby
CALSCALE:GREGORIAN
METHOD:PUBLISH
BEGIN:VEVENT
DTSTAMP:20260423T034806Z
UID:event-22418-2026-06-04T18:00:00+02:00-none
DTSTART;TZID=Europe/Madrid:20260604T180000
DESCRIPTION:Santander celebrará del 24 de abril al 19 de junio el II ciclo
  de teatro de los centros cívicos con el protagonismo de vecinos\, profes
 ores y alumnado.
SUMMARY:II Ciclo de teatro en Centros Cívicos: "El atraco más desastre" y
  "Una aventura prehistórica"
END:VEVENT
END:VCALENDAR
