BEGIN:VCALENDAR
VERSION:2.0
PRODID:icalendar-ruby
CALSCALE:GREGORIAN
METHOD:PUBLISH
BEGIN:VEVENT
DTSTAMP:20260423T054042Z
UID:event-22417-2026-05-22T19:00:00+02:00-none
DTSTART;TZID=Europe/Madrid:20260522T190000
DESCRIPTION:Una crítica en contra de los falsos intelectuales y los person
 ajes jactanciosos\, llenos de afectación y engreimiento  que alcanzan con
  facilidad un falso prestigio.
SUMMARY:II Ciclo de teatro en Centros Cívicos: "Las mujeres sabias"
END:VEVENT
END:VCALENDAR
