BEGIN:VCALENDAR
VERSION:2.0
PRODID:icalendar-ruby
CALSCALE:GREGORIAN
METHOD:PUBLISH
BEGIN:VEVENT
DTSTAMP:20260421T202515Z
UID:event-22195-2026-04-30T19:30:00+02:00-none
DTSTART;TZID=Europe/Madrid:20260430T193000
DESCRIPTION:Este festival tiene como objetivo poner en valor el patrimonio 
 cultural y las tradiciones populares de Europa\, al tiempo que fomenta la 
 participación ciudadana y la colaboración entre entidades sociales y cul
 turales.
SUMMARY:III Festival de Folclore Europa y Cantabria. Tradiciones Encontrada
 s
END:VEVENT
END:VCALENDAR
