BEGIN:VCALENDAR
VERSION:2.0
PRODID:icalendar-ruby
CALSCALE:GREGORIAN
METHOD:PUBLISH
BEGIN:VEVENT
DTSTAMP:20260421T204116Z
UID:event-22378-2026-04-30T19:30:00+02:00-none
DTSTART;TZID=Europe/Madrid:20260430T193000
DESCRIPTION:ÓÁZ combina pintura acrílica\, dripping\, integración de ma
 teriales y bordado sobre lienzo\, articulando un lenguaje plástico que se
  sitúa entre lo pictórico\, lo escultórico y lo textil.
SUMMARY:Inauguración de la exposición “Neo nómadas Europeos”\, de Ma
 rina ÓÁZ
END:VEVENT
END:VCALENDAR
