BEGIN:VCALENDAR
VERSION:2.0
PRODID:icalendar-ruby
CALSCALE:GREGORIAN
METHOD:PUBLISH
BEGIN:VEVENT
DTSTAMP:20260420T161529Z
UID:event-22356-2026-04-25T21:15:00+02:00-none
DTSTART;TZID=Europe/Madrid:20260425T211500
DESCRIPTION:Jam Session en el Café/Bar Bolero con The Happy´s Band y amig
 os el sábado 25 de abril a las 21:15h.
SUMMARY:Jam Session con The Happy´s Band y amigos
END:VEVENT
END:VCALENDAR
