BEGIN:VCALENDAR
VERSION:2.0
PRODID:icalendar-ruby
CALSCALE:GREGORIAN
METHOD:PUBLISH
BEGIN:VEVENT
DTSTAMP:20260421T222716Z
UID:event-22323-2026-05-14T19:00:00+02:00-none
DTSTART;TZID=Europe/Madrid:20260514T190000
DESCRIPTION:La época en que vivió Jesús de Nazaret\, el más universal d
 e los judíos\, sigue suscitando interpretaciones controvertidas. Tres rec
 onocidos especialistas abordan el estudio de este trascendental periodo hi
 stórico.
SUMMARY:"Jesús\, un judío de galilea y los primeros judeocristianos"\, a 
 cargo de Ramón Teja
END:VEVENT
END:VCALENDAR
