BEGIN:VCALENDAR
VERSION:2.0
PRODID:icalendar-ruby
CALSCALE:GREGORIAN
METHOD:PUBLISH
BEGIN:VEVENT
DTSTAMP:20260423T085959Z
UID:event-14903-2025-04-16T19:30:00+02:00-none
DTSTART;TZID=Europe/Madrid:20250416T193000
DESCRIPTION:En los 70\, una joven investigadora procedente de Berkeley lleg
 a a Santander y redescubre las grandes obras de García de Carrasquedo jun
 to con las de otros olvidados maestros de capilla de la catedral de nuestr
 a ciudad.
SUMMARY:"Juan Antonio García de Carrasquedo y otros históricos maestros d
 e Capilla de la Catedral de Santander"\, con Opera Omnia
END:VEVENT
END:VCALENDAR
