BEGIN:VCALENDAR
VERSION:2.0
PRODID:icalendar-ruby
CALSCALE:GREGORIAN
METHOD:PUBLISH
BEGIN:VEVENT
DTSTAMP:20260421T190629Z
UID:event-22395-2026-05-16T18:00:00+02:00-none
DTSTART;TZID=Europe/Madrid:20260516T180000
DESCRIPTION:La chef Pipa estrena programa de televisión. Hoy es su primer 
 día y lo tiene todo listo: el plató de grabación a punto\, la cocina pr
 eparada\, el menú diseñado y a todo el equipo concentrado para empezar. 
 Todos menos su ayudante Juliani...
SUMMARY:"La chef Pipa"\, teatro en familia
END:VEVENT
END:VCALENDAR
