BEGIN:VCALENDAR
VERSION:2.0
PRODID:icalendar-ruby
CALSCALE:GREGORIAN
METHOD:PUBLISH
BEGIN:VEVENT
DTSTAMP:20260424T115046Z
UID:event-22391-2026-04-24T19:30:00+02:00-none
DTSTART;TZID=Europe/Madrid:20260424T193000
DESCRIPTION:El Ateneo de Santander acoge la charla de Fray Alejandro Salaza
 r titulada "La felicidad está en ti\, atrévete a vivir !!!". Será el vi
 ernes 24 de abril a las 19:30h\, con entrada libre hasta completar el afor
 o.
SUMMARY:"La felicidad está en ti\, atrévete a vivir !!!"\, charla de Fray
  Alejandro Salazar
END:VEVENT
END:VCALENDAR
