BEGIN:VCALENDAR
VERSION:2.0
PRODID:icalendar-ruby
CALSCALE:GREGORIAN
METHOD:PUBLISH
BEGIN:VEVENT
DTSTAMP:20260421T201109Z
UID:event-20261-2026-08-03T20:00:00+02:00-none
DTSTART;TZID=Europe/Madrid:20260803T200000
DESCRIPTION:El FIS traerá al Palacio de Festivales de Cantabria la nueva p
 roducción que se estrena en Salzburgo el próximo 23 de enero\, dentro de
  la Semana Mozart\, que en esta edición conmemora el 270 aniversario del 
 nacimiento del compositor.
SUMMARY:"La flauta mágica"\, de Wolfgang Amadeus Mozart\, abre la 75 edici
 ón del FIS
END:VEVENT
BEGIN:VEVENT
DTSTAMP:20260421T201109Z
UID:event-20261-2026-08-05T20:00:00+02:00-none
DTSTART;TZID=Europe/Madrid:20260805T200000
DESCRIPTION:El FIS traerá al Palacio de Festivales de Cantabria la nueva p
 roducción que se estrena en Salzburgo el próximo 23 de enero\, dentro de
  la Semana Mozart\, que en esta edición conmemora el 270 aniversario del 
 nacimiento del compositor.
SUMMARY:"La flauta mágica"\, de Wolfgang Amadeus Mozart\, abre la 75 edici
 ón del FIS
END:VEVENT
END:VCALENDAR
