BEGIN:VCALENDAR
VERSION:2.0
PRODID:icalendar-ruby
CALSCALE:GREGORIAN
METHOD:PUBLISH
BEGIN:VEVENT
DTSTAMP:20260420T162212Z
UID:event-20588-2026-11-27T19:00:00+01:00-none
DTSTART;TZID=Europe/Madrid:20261127T190000
DESCRIPTION:Formación cántabra que combina instrumentos tradicionales\, v
 oces populares\, repertorio incluye jotas\, pasacalles\, todas y piezas ba
 ilables.
SUMMARY:La formación musical Repande actúa en el ciclo "Folclore en todas
  las estaciones"
END:VEVENT
END:VCALENDAR
