BEGIN:VCALENDAR
VERSION:2.0
PRODID:icalendar-ruby
CALSCALE:GREGORIAN
METHOD:PUBLISH
BEGIN:VEVENT
DTSTAMP:20260422T170326Z
UID:event-16530-2025-05-15T19:00:00+02:00-none
DTSTART;TZID=Europe/Madrid:20250515T190000
DESCRIPTION:El recital estará protagonizado por los músicos Pedro Montill
 a (violinista y director de orquesta)\, Mario García (pianista\, arreglis
 ta y productor) y Mario Capodicasa. 
SUMMARY:La galería DiCappo Music abre sus puertas con un recital de músic
 a clásica
END:VEVENT
END:VCALENDAR
