BEGIN:VCALENDAR
VERSION:2.0
PRODID:icalendar-ruby
CALSCALE:GREGORIAN
METHOD:PUBLISH
BEGIN:VEVENT
DTSTAMP:20260423T085731Z
UID:event-4265-2022-12-09T09:00:00+01:00-2022-12-09T18:00:00+01:00
DTSTART;TZID=Europe/Madrid:20221209T090000
DTEND;TZID=Europe/Madrid:20221209T180000
DESCRIPTION:Con el fin de divulgar el rico patrimonio geológico de estos e
 spacios naturales protegidos y fomentar el conocimiento de su geodiversida
 d.
SUMMARY:"La geología de los Parques Nacionales"\, en el CEPA
END:VEVENT
BEGIN:VEVENT
DTSTAMP:20260423T085731Z
UID:event-4265-2022-12-12T09:00:00+01:00-2022-12-12T20:30:00+01:00
DTSTART;TZID=Europe/Madrid:20221212T090000
DTEND;TZID=Europe/Madrid:20221212T203000
DESCRIPTION:Con el fin de divulgar el rico patrimonio geológico de estos e
 spacios naturales protegidos y fomentar el conocimiento de su geodiversida
 d.
SUMMARY:"La geología de los Parques Nacionales"\, en el CEPA
END:VEVENT
BEGIN:VEVENT
DTSTAMP:20260423T085731Z
UID:event-4265-2022-12-13T09:00:00+01:00-2022-12-13T20:30:00+01:00
DTSTART;TZID=Europe/Madrid:20221213T090000
DTEND;TZID=Europe/Madrid:20221213T203000
DESCRIPTION:Con el fin de divulgar el rico patrimonio geológico de estos e
 spacios naturales protegidos y fomentar el conocimiento de su geodiversida
 d.
SUMMARY:"La geología de los Parques Nacionales"\, en el CEPA
END:VEVENT
BEGIN:VEVENT
DTSTAMP:20260423T085731Z
UID:event-4265-2022-12-14T09:00:00+01:00-2022-12-14T20:30:00+01:00
DTSTART;TZID=Europe/Madrid:20221214T090000
DTEND;TZID=Europe/Madrid:20221214T203000
DESCRIPTION:Con el fin de divulgar el rico patrimonio geológico de estos e
 spacios naturales protegidos y fomentar el conocimiento de su geodiversida
 d.
SUMMARY:"La geología de los Parques Nacionales"\, en el CEPA
END:VEVENT
BEGIN:VEVENT
DTSTAMP:20260423T085731Z
UID:event-4265-2022-12-15T09:00:00+01:00-2022-12-15T20:30:00+01:00
DTSTART;TZID=Europe/Madrid:20221215T090000
DTEND;TZID=Europe/Madrid:20221215T203000
DESCRIPTION:Con el fin de divulgar el rico patrimonio geológico de estos e
 spacios naturales protegidos y fomentar el conocimiento de su geodiversida
 d.
SUMMARY:"La geología de los Parques Nacionales"\, en el CEPA
END:VEVENT
BEGIN:VEVENT
DTSTAMP:20260423T085731Z
UID:event-4265-2022-12-16T09:00:00+01:00-2022-12-16T18:00:00+01:00
DTSTART;TZID=Europe/Madrid:20221216T090000
DTEND;TZID=Europe/Madrid:20221216T180000
DESCRIPTION:Con el fin de divulgar el rico patrimonio geológico de estos e
 spacios naturales protegidos y fomentar el conocimiento de su geodiversida
 d.
SUMMARY:"La geología de los Parques Nacionales"\, en el CEPA
END:VEVENT
BEGIN:VEVENT
DTSTAMP:20260423T085731Z
UID:event-4265-2022-12-19T09:00:00+01:00-2022-12-19T20:30:00+01:00
DTSTART;TZID=Europe/Madrid:20221219T090000
DTEND;TZID=Europe/Madrid:20221219T203000
DESCRIPTION:Con el fin de divulgar el rico patrimonio geológico de estos e
 spacios naturales protegidos y fomentar el conocimiento de su geodiversida
 d.
SUMMARY:"La geología de los Parques Nacionales"\, en el CEPA
END:VEVENT
BEGIN:VEVENT
DTSTAMP:20260423T085731Z
UID:event-4265-2022-12-20T09:00:00+01:00-2022-12-20T20:30:00+01:00
DTSTART;TZID=Europe/Madrid:20221220T090000
DTEND;TZID=Europe/Madrid:20221220T203000
DESCRIPTION:Con el fin de divulgar el rico patrimonio geológico de estos e
 spacios naturales protegidos y fomentar el conocimiento de su geodiversida
 d.
SUMMARY:"La geología de los Parques Nacionales"\, en el CEPA
END:VEVENT
BEGIN:VEVENT
DTSTAMP:20260423T085731Z
UID:event-4265-2022-12-21T09:00:00+01:00-2022-12-21T20:30:00+01:00
DTSTART;TZID=Europe/Madrid:20221221T090000
DTEND;TZID=Europe/Madrid:20221221T203000
DESCRIPTION:Con el fin de divulgar el rico patrimonio geológico de estos e
 spacios naturales protegidos y fomentar el conocimiento de su geodiversida
 d.
SUMMARY:"La geología de los Parques Nacionales"\, en el CEPA
END:VEVENT
BEGIN:VEVENT
DTSTAMP:20260423T085731Z
UID:event-4265-2022-12-22T09:00:00+01:00-2022-12-22T20:30:00+01:00
DTSTART;TZID=Europe/Madrid:20221222T090000
DTEND;TZID=Europe/Madrid:20221222T203000
DESCRIPTION:Con el fin de divulgar el rico patrimonio geológico de estos e
 spacios naturales protegidos y fomentar el conocimiento de su geodiversida
 d.
SUMMARY:"La geología de los Parques Nacionales"\, en el CEPA
END:VEVENT
BEGIN:VEVENT
DTSTAMP:20260423T085731Z
UID:event-4265-2022-12-23T09:00:00+01:00-2022-12-23T18:00:00+01:00
DTSTART;TZID=Europe/Madrid:20221223T090000
DTEND;TZID=Europe/Madrid:20221223T180000
DESCRIPTION:Con el fin de divulgar el rico patrimonio geológico de estos e
 spacios naturales protegidos y fomentar el conocimiento de su geodiversida
 d.
SUMMARY:"La geología de los Parques Nacionales"\, en el CEPA
END:VEVENT
BEGIN:VEVENT
DTSTAMP:20260423T085731Z
UID:event-4265-2022-12-27T09:00:00+01:00-2022-12-27T20:30:00+01:00
DTSTART;TZID=Europe/Madrid:20221227T090000
DTEND;TZID=Europe/Madrid:20221227T203000
DESCRIPTION:Con el fin de divulgar el rico patrimonio geológico de estos e
 spacios naturales protegidos y fomentar el conocimiento de su geodiversida
 d.
SUMMARY:"La geología de los Parques Nacionales"\, en el CEPA
END:VEVENT
BEGIN:VEVENT
DTSTAMP:20260423T085731Z
UID:event-4265-2022-12-28T09:00:00+01:00-2022-12-28T20:30:00+01:00
DTSTART;TZID=Europe/Madrid:20221228T090000
DTEND;TZID=Europe/Madrid:20221228T203000
DESCRIPTION:Con el fin de divulgar el rico patrimonio geológico de estos e
 spacios naturales protegidos y fomentar el conocimiento de su geodiversida
 d.
SUMMARY:"La geología de los Parques Nacionales"\, en el CEPA
END:VEVENT
BEGIN:VEVENT
DTSTAMP:20260423T085731Z
UID:event-4265-2022-12-29T09:00:00+01:00-2022-12-29T20:30:00+01:00
DTSTART;TZID=Europe/Madrid:20221229T090000
DTEND;TZID=Europe/Madrid:20221229T203000
DESCRIPTION:Con el fin de divulgar el rico patrimonio geológico de estos e
 spacios naturales protegidos y fomentar el conocimiento de su geodiversida
 d.
SUMMARY:"La geología de los Parques Nacionales"\, en el CEPA
END:VEVENT
BEGIN:VEVENT
DTSTAMP:20260423T085731Z
UID:event-4265-2022-12-30T09:00:00+01:00-2022-12-30T18:00:00+01:00
DTSTART;TZID=Europe/Madrid:20221230T090000
DTEND;TZID=Europe/Madrid:20221230T180000
DESCRIPTION:Con el fin de divulgar el rico patrimonio geológico de estos e
 spacios naturales protegidos y fomentar el conocimiento de su geodiversida
 d.
SUMMARY:"La geología de los Parques Nacionales"\, en el CEPA
END:VEVENT
BEGIN:VEVENT
DTSTAMP:20260423T085731Z
UID:event-4265-2023-01-02T09:00:00+01:00-2023-01-02T20:30:00+01:00
DTSTART;TZID=Europe/Madrid:20230102T090000
DTEND;TZID=Europe/Madrid:20230102T203000
DESCRIPTION:Con el fin de divulgar el rico patrimonio geológico de estos e
 spacios naturales protegidos y fomentar el conocimiento de su geodiversida
 d.
SUMMARY:"La geología de los Parques Nacionales"\, en el CEPA
END:VEVENT
BEGIN:VEVENT
DTSTAMP:20260423T085731Z
UID:event-4265-2023-01-03T09:00:00+01:00-2023-01-03T20:30:00+01:00
DTSTART;TZID=Europe/Madrid:20230103T090000
DTEND;TZID=Europe/Madrid:20230103T203000
DESCRIPTION:Con el fin de divulgar el rico patrimonio geológico de estos e
 spacios naturales protegidos y fomentar el conocimiento de su geodiversida
 d.
SUMMARY:"La geología de los Parques Nacionales"\, en el CEPA
END:VEVENT
BEGIN:VEVENT
DTSTAMP:20260423T085731Z
UID:event-4265-2023-01-04T09:00:00+01:00-2023-01-04T20:30:00+01:00
DTSTART;TZID=Europe/Madrid:20230104T090000
DTEND;TZID=Europe/Madrid:20230104T203000
DESCRIPTION:Con el fin de divulgar el rico patrimonio geológico de estos e
 spacios naturales protegidos y fomentar el conocimiento de su geodiversida
 d.
SUMMARY:"La geología de los Parques Nacionales"\, en el CEPA
END:VEVENT
BEGIN:VEVENT
DTSTAMP:20260423T085731Z
UID:event-4265-2023-01-05T09:00:00+01:00-2023-01-05T20:30:00+01:00
DTSTART;TZID=Europe/Madrid:20230105T090000
DTEND;TZID=Europe/Madrid:20230105T203000
DESCRIPTION:Con el fin de divulgar el rico patrimonio geológico de estos e
 spacios naturales protegidos y fomentar el conocimiento de su geodiversida
 d.
SUMMARY:"La geología de los Parques Nacionales"\, en el CEPA
END:VEVENT
BEGIN:VEVENT
DTSTAMP:20260423T085731Z
UID:event-4265-2023-01-09T09:00:00+01:00-2023-01-09T20:30:00+01:00
DTSTART;TZID=Europe/Madrid:20230109T090000
DTEND;TZID=Europe/Madrid:20230109T203000
DESCRIPTION:Con el fin de divulgar el rico patrimonio geológico de estos e
 spacios naturales protegidos y fomentar el conocimiento de su geodiversida
 d.
SUMMARY:"La geología de los Parques Nacionales"\, en el CEPA
END:VEVENT
BEGIN:VEVENT
DTSTAMP:20260423T085731Z
UID:event-4265-2023-01-10T09:00:00+01:00-2023-01-10T20:30:00+01:00
DTSTART;TZID=Europe/Madrid:20230110T090000
DTEND;TZID=Europe/Madrid:20230110T203000
DESCRIPTION:Con el fin de divulgar el rico patrimonio geológico de estos e
 spacios naturales protegidos y fomentar el conocimiento de su geodiversida
 d.
SUMMARY:"La geología de los Parques Nacionales"\, en el CEPA
END:VEVENT
BEGIN:VEVENT
DTSTAMP:20260423T085731Z
UID:event-4265-2023-01-11T09:00:00+01:00-2023-01-11T20:30:00+01:00
DTSTART;TZID=Europe/Madrid:20230111T090000
DTEND;TZID=Europe/Madrid:20230111T203000
DESCRIPTION:Con el fin de divulgar el rico patrimonio geológico de estos e
 spacios naturales protegidos y fomentar el conocimiento de su geodiversida
 d.
SUMMARY:"La geología de los Parques Nacionales"\, en el CEPA
END:VEVENT
BEGIN:VEVENT
DTSTAMP:20260423T085731Z
UID:event-4265-2023-01-12T09:00:00+01:00-2023-01-12T20:30:00+01:00
DTSTART;TZID=Europe/Madrid:20230112T090000
DTEND;TZID=Europe/Madrid:20230112T203000
DESCRIPTION:Con el fin de divulgar el rico patrimonio geológico de estos e
 spacios naturales protegidos y fomentar el conocimiento de su geodiversida
 d.
SUMMARY:"La geología de los Parques Nacionales"\, en el CEPA
END:VEVENT
BEGIN:VEVENT
DTSTAMP:20260423T085731Z
UID:event-4265-2023-01-13T09:00:00+01:00-2023-01-13T18:00:00+01:00
DTSTART;TZID=Europe/Madrid:20230113T090000
DTEND;TZID=Europe/Madrid:20230113T180000
DESCRIPTION:Con el fin de divulgar el rico patrimonio geológico de estos e
 spacios naturales protegidos y fomentar el conocimiento de su geodiversida
 d.
SUMMARY:"La geología de los Parques Nacionales"\, en el CEPA
END:VEVENT
BEGIN:VEVENT
DTSTAMP:20260423T085731Z
UID:event-4265-2023-01-16T09:00:00+01:00-2023-01-16T20:30:00+01:00
DTSTART;TZID=Europe/Madrid:20230116T090000
DTEND;TZID=Europe/Madrid:20230116T203000
DESCRIPTION:Con el fin de divulgar el rico patrimonio geológico de estos e
 spacios naturales protegidos y fomentar el conocimiento de su geodiversida
 d.
SUMMARY:"La geología de los Parques Nacionales"\, en el CEPA
END:VEVENT
BEGIN:VEVENT
DTSTAMP:20260423T085731Z
UID:event-4265-2023-01-17T09:00:00+01:00-2023-01-17T20:30:00+01:00
DTSTART;TZID=Europe/Madrid:20230117T090000
DTEND;TZID=Europe/Madrid:20230117T203000
DESCRIPTION:Con el fin de divulgar el rico patrimonio geológico de estos e
 spacios naturales protegidos y fomentar el conocimiento de su geodiversida
 d.
SUMMARY:"La geología de los Parques Nacionales"\, en el CEPA
END:VEVENT
BEGIN:VEVENT
DTSTAMP:20260423T085731Z
UID:event-4265-2023-01-18T09:00:00+01:00-2023-01-18T20:30:00+01:00
DTSTART;TZID=Europe/Madrid:20230118T090000
DTEND;TZID=Europe/Madrid:20230118T203000
DESCRIPTION:Con el fin de divulgar el rico patrimonio geológico de estos e
 spacios naturales protegidos y fomentar el conocimiento de su geodiversida
 d.
SUMMARY:"La geología de los Parques Nacionales"\, en el CEPA
END:VEVENT
BEGIN:VEVENT
DTSTAMP:20260423T085731Z
UID:event-4265-2023-01-19T09:00:00+01:00-2023-01-19T20:30:00+01:00
DTSTART;TZID=Europe/Madrid:20230119T090000
DTEND;TZID=Europe/Madrid:20230119T203000
DESCRIPTION:Con el fin de divulgar el rico patrimonio geológico de estos e
 spacios naturales protegidos y fomentar el conocimiento de su geodiversida
 d.
SUMMARY:"La geología de los Parques Nacionales"\, en el CEPA
END:VEVENT
BEGIN:VEVENT
DTSTAMP:20260423T085731Z
UID:event-4265-2023-01-20T09:00:00+01:00-2023-01-20T18:00:00+01:00
DTSTART;TZID=Europe/Madrid:20230120T090000
DTEND;TZID=Europe/Madrid:20230120T180000
DESCRIPTION:Con el fin de divulgar el rico patrimonio geológico de estos e
 spacios naturales protegidos y fomentar el conocimiento de su geodiversida
 d.
SUMMARY:"La geología de los Parques Nacionales"\, en el CEPA
END:VEVENT
BEGIN:VEVENT
DTSTAMP:20260423T085731Z
UID:event-4265-2023-01-23T09:00:00+01:00-2023-01-23T20:30:00+01:00
DTSTART;TZID=Europe/Madrid:20230123T090000
DTEND;TZID=Europe/Madrid:20230123T203000
DESCRIPTION:Con el fin de divulgar el rico patrimonio geológico de estos e
 spacios naturales protegidos y fomentar el conocimiento de su geodiversida
 d.
SUMMARY:"La geología de los Parques Nacionales"\, en el CEPA
END:VEVENT
BEGIN:VEVENT
DTSTAMP:20260423T085731Z
UID:event-4265-2023-01-24T09:00:00+01:00-2023-01-24T20:30:00+01:00
DTSTART;TZID=Europe/Madrid:20230124T090000
DTEND;TZID=Europe/Madrid:20230124T203000
DESCRIPTION:Con el fin de divulgar el rico patrimonio geológico de estos e
 spacios naturales protegidos y fomentar el conocimiento de su geodiversida
 d.
SUMMARY:"La geología de los Parques Nacionales"\, en el CEPA
END:VEVENT
BEGIN:VEVENT
DTSTAMP:20260423T085731Z
UID:event-4265-2023-01-25T09:00:00+01:00-2023-01-25T20:30:00+01:00
DTSTART;TZID=Europe/Madrid:20230125T090000
DTEND;TZID=Europe/Madrid:20230125T203000
DESCRIPTION:Con el fin de divulgar el rico patrimonio geológico de estos e
 spacios naturales protegidos y fomentar el conocimiento de su geodiversida
 d.
SUMMARY:"La geología de los Parques Nacionales"\, en el CEPA
END:VEVENT
BEGIN:VEVENT
DTSTAMP:20260423T085731Z
UID:event-4265-2023-01-26T09:00:00+01:00-2023-01-26T20:30:00+01:00
DTSTART;TZID=Europe/Madrid:20230126T090000
DTEND;TZID=Europe/Madrid:20230126T203000
DESCRIPTION:Con el fin de divulgar el rico patrimonio geológico de estos e
 spacios naturales protegidos y fomentar el conocimiento de su geodiversida
 d.
SUMMARY:"La geología de los Parques Nacionales"\, en el CEPA
END:VEVENT
BEGIN:VEVENT
DTSTAMP:20260423T085731Z
UID:event-4265-2023-01-27T09:00:00+01:00-2023-01-27T18:00:00+01:00
DTSTART;TZID=Europe/Madrid:20230127T090000
DTEND;TZID=Europe/Madrid:20230127T180000
DESCRIPTION:Con el fin de divulgar el rico patrimonio geológico de estos e
 spacios naturales protegidos y fomentar el conocimiento de su geodiversida
 d.
SUMMARY:"La geología de los Parques Nacionales"\, en el CEPA
END:VEVENT
BEGIN:VEVENT
DTSTAMP:20260423T085731Z
UID:event-4265-2023-01-30T09:00:00+01:00-2023-01-30T20:30:00+01:00
DTSTART;TZID=Europe/Madrid:20230130T090000
DTEND;TZID=Europe/Madrid:20230130T203000
DESCRIPTION:Con el fin de divulgar el rico patrimonio geológico de estos e
 spacios naturales protegidos y fomentar el conocimiento de su geodiversida
 d.
SUMMARY:"La geología de los Parques Nacionales"\, en el CEPA
END:VEVENT
BEGIN:VEVENT
DTSTAMP:20260423T085731Z
UID:event-4265-2023-01-31T09:00:00+01:00-2023-01-31T20:30:00+01:00
DTSTART;TZID=Europe/Madrid:20230131T090000
DTEND;TZID=Europe/Madrid:20230131T203000
DESCRIPTION:Con el fin de divulgar el rico patrimonio geológico de estos e
 spacios naturales protegidos y fomentar el conocimiento de su geodiversida
 d.
SUMMARY:"La geología de los Parques Nacionales"\, en el CEPA
END:VEVENT
BEGIN:VEVENT
DTSTAMP:20260423T085731Z
UID:event-4265-2023-02-01T09:00:00+01:00-2023-02-01T20:30:00+01:00
DTSTART;TZID=Europe/Madrid:20230201T090000
DTEND;TZID=Europe/Madrid:20230201T203000
DESCRIPTION:Con el fin de divulgar el rico patrimonio geológico de estos e
 spacios naturales protegidos y fomentar el conocimiento de su geodiversida
 d.
SUMMARY:"La geología de los Parques Nacionales"\, en el CEPA
END:VEVENT
BEGIN:VEVENT
DTSTAMP:20260423T085731Z
UID:event-4265-2023-02-02T09:00:00+01:00-2023-02-02T20:30:00+01:00
DTSTART;TZID=Europe/Madrid:20230202T090000
DTEND;TZID=Europe/Madrid:20230202T203000
DESCRIPTION:Con el fin de divulgar el rico patrimonio geológico de estos e
 spacios naturales protegidos y fomentar el conocimiento de su geodiversida
 d.
SUMMARY:"La geología de los Parques Nacionales"\, en el CEPA
END:VEVENT
BEGIN:VEVENT
DTSTAMP:20260423T085731Z
UID:event-4265-2023-02-03T09:00:00+01:00-2023-02-03T18:00:00+01:00
DTSTART;TZID=Europe/Madrid:20230203T090000
DTEND;TZID=Europe/Madrid:20230203T180000
DESCRIPTION:Con el fin de divulgar el rico patrimonio geológico de estos e
 spacios naturales protegidos y fomentar el conocimiento de su geodiversida
 d.
SUMMARY:"La geología de los Parques Nacionales"\, en el CEPA
END:VEVENT
BEGIN:VEVENT
DTSTAMP:20260423T085731Z
UID:event-4265-2023-02-06T09:00:00+01:00-2023-02-06T20:30:00+01:00
DTSTART;TZID=Europe/Madrid:20230206T090000
DTEND;TZID=Europe/Madrid:20230206T203000
DESCRIPTION:Con el fin de divulgar el rico patrimonio geológico de estos e
 spacios naturales protegidos y fomentar el conocimiento de su geodiversida
 d.
SUMMARY:"La geología de los Parques Nacionales"\, en el CEPA
END:VEVENT
BEGIN:VEVENT
DTSTAMP:20260423T085731Z
UID:event-4265-2023-02-07T09:00:00+01:00-2023-02-07T20:30:00+01:00
DTSTART;TZID=Europe/Madrid:20230207T090000
DTEND;TZID=Europe/Madrid:20230207T203000
DESCRIPTION:Con el fin de divulgar el rico patrimonio geológico de estos e
 spacios naturales protegidos y fomentar el conocimiento de su geodiversida
 d.
SUMMARY:"La geología de los Parques Nacionales"\, en el CEPA
END:VEVENT
BEGIN:VEVENT
DTSTAMP:20260423T085731Z
UID:event-4265-2023-02-08T09:00:00+01:00-2023-02-08T20:30:00+01:00
DTSTART;TZID=Europe/Madrid:20230208T090000
DTEND;TZID=Europe/Madrid:20230208T203000
DESCRIPTION:Con el fin de divulgar el rico patrimonio geológico de estos e
 spacios naturales protegidos y fomentar el conocimiento de su geodiversida
 d.
SUMMARY:"La geología de los Parques Nacionales"\, en el CEPA
END:VEVENT
BEGIN:VEVENT
DTSTAMP:20260423T085731Z
UID:event-4265-2023-02-09T09:00:00+01:00-2023-02-09T20:30:00+01:00
DTSTART;TZID=Europe/Madrid:20230209T090000
DTEND;TZID=Europe/Madrid:20230209T203000
DESCRIPTION:Con el fin de divulgar el rico patrimonio geológico de estos e
 spacios naturales protegidos y fomentar el conocimiento de su geodiversida
 d.
SUMMARY:"La geología de los Parques Nacionales"\, en el CEPA
END:VEVENT
BEGIN:VEVENT
DTSTAMP:20260423T085731Z
UID:event-4265-2023-02-10T09:00:00+01:00-2023-02-10T18:00:00+01:00
DTSTART;TZID=Europe/Madrid:20230210T090000
DTEND;TZID=Europe/Madrid:20230210T180000
DESCRIPTION:Con el fin de divulgar el rico patrimonio geológico de estos e
 spacios naturales protegidos y fomentar el conocimiento de su geodiversida
 d.
SUMMARY:"La geología de los Parques Nacionales"\, en el CEPA
END:VEVENT
BEGIN:VEVENT
DTSTAMP:20260423T085731Z
UID:event-4265-2023-02-13T09:00:00+01:00-2023-02-13T20:30:00+01:00
DTSTART;TZID=Europe/Madrid:20230213T090000
DTEND;TZID=Europe/Madrid:20230213T203000
DESCRIPTION:Con el fin de divulgar el rico patrimonio geológico de estos e
 spacios naturales protegidos y fomentar el conocimiento de su geodiversida
 d.
SUMMARY:"La geología de los Parques Nacionales"\, en el CEPA
END:VEVENT
BEGIN:VEVENT
DTSTAMP:20260423T085731Z
UID:event-4265-2023-02-14T09:00:00+01:00-2023-02-14T20:30:00+01:00
DTSTART;TZID=Europe/Madrid:20230214T090000
DTEND;TZID=Europe/Madrid:20230214T203000
DESCRIPTION:Con el fin de divulgar el rico patrimonio geológico de estos e
 spacios naturales protegidos y fomentar el conocimiento de su geodiversida
 d.
SUMMARY:"La geología de los Parques Nacionales"\, en el CEPA
END:VEVENT
BEGIN:VEVENT
DTSTAMP:20260423T085731Z
UID:event-4265-2023-02-15T09:00:00+01:00-2023-02-15T20:30:00+01:00
DTSTART;TZID=Europe/Madrid:20230215T090000
DTEND;TZID=Europe/Madrid:20230215T203000
DESCRIPTION:Con el fin de divulgar el rico patrimonio geológico de estos e
 spacios naturales protegidos y fomentar el conocimiento de su geodiversida
 d.
SUMMARY:"La geología de los Parques Nacionales"\, en el CEPA
END:VEVENT
BEGIN:VEVENT
DTSTAMP:20260423T085731Z
UID:event-4265-2023-02-16T09:00:00+01:00-2023-02-16T20:30:00+01:00
DTSTART;TZID=Europe/Madrid:20230216T090000
DTEND;TZID=Europe/Madrid:20230216T203000
DESCRIPTION:Con el fin de divulgar el rico patrimonio geológico de estos e
 spacios naturales protegidos y fomentar el conocimiento de su geodiversida
 d.
SUMMARY:"La geología de los Parques Nacionales"\, en el CEPA
END:VEVENT
BEGIN:VEVENT
DTSTAMP:20260423T085731Z
UID:event-4265-2023-02-17T09:00:00+01:00-2023-02-17T18:00:00+01:00
DTSTART;TZID=Europe/Madrid:20230217T090000
DTEND;TZID=Europe/Madrid:20230217T180000
DESCRIPTION:Con el fin de divulgar el rico patrimonio geológico de estos e
 spacios naturales protegidos y fomentar el conocimiento de su geodiversida
 d.
SUMMARY:"La geología de los Parques Nacionales"\, en el CEPA
END:VEVENT
BEGIN:VEVENT
DTSTAMP:20260423T085731Z
UID:event-4265-2023-02-20T09:00:00+01:00-2023-02-20T20:30:00+01:00
DTSTART;TZID=Europe/Madrid:20230220T090000
DTEND;TZID=Europe/Madrid:20230220T203000
DESCRIPTION:Con el fin de divulgar el rico patrimonio geológico de estos e
 spacios naturales protegidos y fomentar el conocimiento de su geodiversida
 d.
SUMMARY:"La geología de los Parques Nacionales"\, en el CEPA
END:VEVENT
BEGIN:VEVENT
DTSTAMP:20260423T085731Z
UID:event-4265-2023-02-21T09:00:00+01:00-2023-02-21T20:30:00+01:00
DTSTART;TZID=Europe/Madrid:20230221T090000
DTEND;TZID=Europe/Madrid:20230221T203000
DESCRIPTION:Con el fin de divulgar el rico patrimonio geológico de estos e
 spacios naturales protegidos y fomentar el conocimiento de su geodiversida
 d.
SUMMARY:"La geología de los Parques Nacionales"\, en el CEPA
END:VEVENT
BEGIN:VEVENT
DTSTAMP:20260423T085731Z
UID:event-4265-2023-02-22T09:00:00+01:00-2023-02-22T20:30:00+01:00
DTSTART;TZID=Europe/Madrid:20230222T090000
DTEND;TZID=Europe/Madrid:20230222T203000
DESCRIPTION:Con el fin de divulgar el rico patrimonio geológico de estos e
 spacios naturales protegidos y fomentar el conocimiento de su geodiversida
 d.
SUMMARY:"La geología de los Parques Nacionales"\, en el CEPA
END:VEVENT
BEGIN:VEVENT
DTSTAMP:20260423T085731Z
UID:event-4265-2023-02-23T09:00:00+01:00-2023-02-23T20:30:00+01:00
DTSTART;TZID=Europe/Madrid:20230223T090000
DTEND;TZID=Europe/Madrid:20230223T203000
DESCRIPTION:Con el fin de divulgar el rico patrimonio geológico de estos e
 spacios naturales protegidos y fomentar el conocimiento de su geodiversida
 d.
SUMMARY:"La geología de los Parques Nacionales"\, en el CEPA
END:VEVENT
BEGIN:VEVENT
DTSTAMP:20260423T085731Z
UID:event-4265-2023-02-24T09:00:00+01:00-2023-02-24T18:00:00+01:00
DTSTART;TZID=Europe/Madrid:20230224T090000
DTEND;TZID=Europe/Madrid:20230224T180000
DESCRIPTION:Con el fin de divulgar el rico patrimonio geológico de estos e
 spacios naturales protegidos y fomentar el conocimiento de su geodiversida
 d.
SUMMARY:"La geología de los Parques Nacionales"\, en el CEPA
END:VEVENT
BEGIN:VEVENT
DTSTAMP:20260423T085731Z
UID:event-4265-2023-02-27T09:00:00+01:00-2023-02-27T20:30:00+01:00
DTSTART;TZID=Europe/Madrid:20230227T090000
DTEND;TZID=Europe/Madrid:20230227T203000
DESCRIPTION:Con el fin de divulgar el rico patrimonio geológico de estos e
 spacios naturales protegidos y fomentar el conocimiento de su geodiversida
 d.
SUMMARY:"La geología de los Parques Nacionales"\, en el CEPA
END:VEVENT
BEGIN:VEVENT
DTSTAMP:20260423T085731Z
UID:event-4265-2023-02-28T09:00:00+01:00-2023-02-28T20:30:00+01:00
DTSTART;TZID=Europe/Madrid:20230228T090000
DTEND;TZID=Europe/Madrid:20230228T203000
DESCRIPTION:Con el fin de divulgar el rico patrimonio geológico de estos e
 spacios naturales protegidos y fomentar el conocimiento de su geodiversida
 d.
SUMMARY:"La geología de los Parques Nacionales"\, en el CEPA
END:VEVENT
BEGIN:VEVENT
DTSTAMP:20260423T085731Z
UID:event-4265-2023-03-01T09:00:00+01:00-2023-03-01T20:30:00+01:00
DTSTART;TZID=Europe/Madrid:20230301T090000
DTEND;TZID=Europe/Madrid:20230301T203000
DESCRIPTION:Con el fin de divulgar el rico patrimonio geológico de estos e
 spacios naturales protegidos y fomentar el conocimiento de su geodiversida
 d.
SUMMARY:"La geología de los Parques Nacionales"\, en el CEPA
END:VEVENT
BEGIN:VEVENT
DTSTAMP:20260423T085731Z
UID:event-4265-2023-03-02T09:00:00+01:00-2023-03-02T20:30:00+01:00
DTSTART;TZID=Europe/Madrid:20230302T090000
DTEND;TZID=Europe/Madrid:20230302T203000
DESCRIPTION:Con el fin de divulgar el rico patrimonio geológico de estos e
 spacios naturales protegidos y fomentar el conocimiento de su geodiversida
 d.
SUMMARY:"La geología de los Parques Nacionales"\, en el CEPA
END:VEVENT
BEGIN:VEVENT
DTSTAMP:20260423T085731Z
UID:event-4265-2023-03-03T09:00:00+01:00-2023-03-03T18:00:00+01:00
DTSTART;TZID=Europe/Madrid:20230303T090000
DTEND;TZID=Europe/Madrid:20230303T180000
DESCRIPTION:Con el fin de divulgar el rico patrimonio geológico de estos e
 spacios naturales protegidos y fomentar el conocimiento de su geodiversida
 d.
SUMMARY:"La geología de los Parques Nacionales"\, en el CEPA
END:VEVENT
END:VCALENDAR
