BEGIN:VCALENDAR
VERSION:2.0
PRODID:icalendar-ruby
CALSCALE:GREGORIAN
METHOD:PUBLISH
BEGIN:VEVENT
DTSTAMP:20260421T175459Z
UID:event-21996-2026-04-15T17:45:00+02:00-none
DTSTART;TZID=Europe/Madrid:20260415T174500
DESCRIPTION:Mariano De Santis\, presidente (ficticio) de la República ital
 iana\, es un veterano político demócrata\, humanista y católico\, que d
 e repente comienza a dudar sobre varias importantes decisiones que debe to
 mar...
SUMMARY:"La Grazia"\, de Paolo Sorrentino
END:VEVENT
BEGIN:VEVENT
DTSTAMP:20260421T175459Z
UID:event-21996-2026-04-16T22:15:00+02:00-none
DTSTART;TZID=Europe/Madrid:20260416T221500
DESCRIPTION:Mariano De Santis\, presidente (ficticio) de la República ital
 iana\, es un veterano político demócrata\, humanista y católico\, que d
 e repente comienza a dudar sobre varias importantes decisiones que debe to
 mar...
SUMMARY:"La Grazia"\, de Paolo Sorrentino
END:VEVENT
BEGIN:VEVENT
DTSTAMP:20260421T175459Z
UID:event-21996-2026-04-17T22:30:00+02:00-none
DTSTART;TZID=Europe/Madrid:20260417T223000
DESCRIPTION:Mariano De Santis\, presidente (ficticio) de la República ital
 iana\, es un veterano político demócrata\, humanista y católico\, que d
 e repente comienza a dudar sobre varias importantes decisiones que debe to
 mar...
SUMMARY:"La Grazia"\, de Paolo Sorrentino
END:VEVENT
BEGIN:VEVENT
DTSTAMP:20260421T175459Z
UID:event-21996-2026-04-18T17:45:00+02:00-none
DTSTART;TZID=Europe/Madrid:20260418T174500
DESCRIPTION:Mariano De Santis\, presidente (ficticio) de la República ital
 iana\, es un veterano político demócrata\, humanista y católico\, que d
 e repente comienza a dudar sobre varias importantes decisiones que debe to
 mar...
SUMMARY:"La Grazia"\, de Paolo Sorrentino
END:VEVENT
BEGIN:VEVENT
DTSTAMP:20260421T175459Z
UID:event-21996-2026-04-19T17:45:00+02:00-none
DTSTART;TZID=Europe/Madrid:20260419T174500
DESCRIPTION:Mariano De Santis\, presidente (ficticio) de la República ital
 iana\, es un veterano político demócrata\, humanista y católico\, que d
 e repente comienza a dudar sobre varias importantes decisiones que debe to
 mar...
SUMMARY:"La Grazia"\, de Paolo Sorrentino
END:VEVENT
BEGIN:VEVENT
DTSTAMP:20260421T175500Z
UID:event-21996-2026-04-21T20:00:00+02:00-none
DTSTART;TZID=Europe/Madrid:20260421T200000
DESCRIPTION:Mariano De Santis\, presidente (ficticio) de la República ital
 iana\, es un veterano político demócrata\, humanista y católico\, que d
 e repente comienza a dudar sobre varias importantes decisiones que debe to
 mar...
SUMMARY:"La Grazia"\, de Paolo Sorrentino
END:VEVENT
END:VCALENDAR
