BEGIN:VCALENDAR
VERSION:2.0
PRODID:icalendar-ruby
CALSCALE:GREGORIAN
METHOD:PUBLISH
BEGIN:VEVENT
DTSTAMP:20260423T102852Z
UID:event-4769-2023-01-25T19:30:00+01:00-none
DTSTART;TZID=Europe/Madrid:20230125T193000
DESCRIPTION:Para conversar de memoria\, Marisol González delegada de la as
 ociación de memoria histórica 'Archivo\, guerra y exilio' acompañará a
  Antonio Ontañon a rescatar del olvido a los desaparecidos.
SUMMARY:"La memoria de lxs desaparecidxs. Ataques fascistas y reparación p
 endiente"\, con Antonio Ontañón y Marisol González
END:VEVENT
END:VCALENDAR
