BEGIN:VCALENDAR
VERSION:2.0
PRODID:icalendar-ruby
CALSCALE:GREGORIAN
METHOD:PUBLISH
BEGIN:VEVENT
DTSTAMP:20260425T155319Z
UID:event-22457-2026-05-30T20:00:00+02:00-none
DTSTART;TZID=Europe/Madrid:20260530T200000
DESCRIPTION:Una experiencia performativa que combina ritmos del mundo\, ele
 ctrónica\, pop experimental y poesía sonora. Un espectáculo de virtuosi
 smo vocal y precisión rítmica que se atreve a fusionar múltiples géner
 os musicales.
SUMMARY:"La mujer-orquesta del siglo XXI". Looping Greis 
END:VEVENT
END:VCALENDAR
