BEGIN:VCALENDAR
VERSION:2.0
PRODID:icalendar-ruby
CALSCALE:GREGORIAN
METHOD:PUBLISH
BEGIN:VEVENT
DTSTAMP:20260421T165548Z
UID:event-12928-2024-09-24T18:00:00+02:00-none
DTSTART;TZID=Europe/Madrid:20240924T180000
DESCRIPTION:El Palacio de Festivales de Cantabria recibe a la Ópera de Ovi
 edo para presentar en la sala María Blanchard\, a partir de las 18.00 hor
 as\, la temporada 2024-2025 que la institución lírica programa en el Tea
 tro Campoamor.
SUMMARY:La Ópera de Oviedo presenta su temporada 2024-2025
END:VEVENT
END:VCALENDAR
