BEGIN:VCALENDAR
VERSION:2.0
PRODID:icalendar-ruby
CALSCALE:GREGORIAN
METHOD:PUBLISH
BEGIN:VEVENT
DTSTAMP:20260420T171900Z
UID:event-21942-2026-09-26T21:00:00+02:00-none
DTSTART;TZID=Europe/Madrid:20260926T210000
DESCRIPTION:Hay artistas que tocan música y hay artistas que incendian el 
 escenario. La Perra Blanco pertenece\, sin duda\, al segundo grupo. El pr
 óximo 26 de septiembre\, Escenario Santander se prepara para recibir la g
 ira “Lovers and Fears”.
SUMMARY:La Perra Blanco. Gira "Lovers and Fears"
END:VEVENT
END:VCALENDAR
