BEGIN:VCALENDAR
VERSION:2.0
PRODID:icalendar-ruby
CALSCALE:GREGORIAN
METHOD:PUBLISH
BEGIN:VEVENT
DTSTAMP:20260421T173413Z
UID:event-22367-2026-04-21T19:30:00+02:00-none
DTSTART;TZID=Europe/Madrid:20260421T193000
DESCRIPTION:El Centro Gallego de Santander acoge la conferencia "La Reconqu
 ista: un fenómeno cántabro"\, que será impartida por Henry Cruzado\, di
 rector de la revista digital “La Voz de Liébana”.
SUMMARY:"La Reconquista: un fenómeno cántabro"\, conferencia de Enrique C
 ruzado
END:VEVENT
END:VCALENDAR
