BEGIN:VCALENDAR
VERSION:2.0
PRODID:icalendar-ruby
CALSCALE:GREGORIAN
METHOD:PUBLISH
BEGIN:VEVENT
DTSTAMP:20260420T160557Z
UID:event-21133-2026-12-04T19:00:00+01:00-none
DTSTART;TZID=Europe/Madrid:20261204T190000
DESCRIPTION:Las Yhadys es un proyecto musical que surge a finales del año 
 2020\, cuando Sergio Gómez y Estefanía Muriedas unen sus fuerzas para co
 mponer unas pocas canciones.
SUMMARY:Las Yhadys cierran las actuaciones de Santander Sonoro 2026
END:VEVENT
END:VCALENDAR
