BEGIN:VCALENDAR
VERSION:2.0
PRODID:icalendar-ruby
CALSCALE:GREGORIAN
METHOD:PUBLISH
BEGIN:VEVENT
DTSTAMP:20260420T143918Z
UID:event-22317-2026-05-07T19:00:00+02:00-none
DTSTART;TZID=Europe/Madrid:20260507T190000
DESCRIPTION:Conferencia impartida por un reconocido especialista en la dest
 rucción de patrimonio histórico en guerras recientes de Oriente Próximo
 : Isber Sabrine\, investigador siriano-español del Inst. de Investigació
 n en Humanidades Milá y Fontanals.
SUMMARY:Lecciones sobre la protección del patrimonio cultural en el contex
 to de guerra: casos de Siria y Yemen
END:VEVENT
END:VCALENDAR
