BEGIN:VCALENDAR
VERSION:2.0
PRODID:icalendar-ruby
CALSCALE:GREGORIAN
METHOD:PUBLISH
BEGIN:VEVENT
DTSTAMP:20260423T090110Z
UID:event-20640-2026-03-16T20:00:00+01:00-none
DTSTART;TZID=Europe/Madrid:20260316T200000
DESCRIPTION:Con este texto\, el autor pretende denunciar el olvido de una p
 arte de nuestra historia y recuperar la memoria de los primeros años del 
 franquismo.
SUMMARY:Lectura dramatizada: "Terror y miseria en el primer franquismo" de 
 José Sanchis Sinisterra
END:VEVENT
END:VCALENDAR
