BEGIN:VCALENDAR
VERSION:2.0
PRODID:icalendar-ruby
CALSCALE:GREGORIAN
METHOD:PUBLISH
BEGIN:VEVENT
DTSTAMP:20260420T171135Z
UID:event-21798-2026-06-06T22:30:00+02:00-none
DTSTART;TZID=Europe/Madrid:20260606T223000
DESCRIPTION:Linkoln Park regresan a las salas de toda España con una gira 
 en la que rinden homenaje al álbum con el que comenzó todo\, y se convir
 tió en la insuperable obra maestra que marcó a toda una generación: Hyb
 rid Theory.
SUMMARY:Linkoln Park. Tributo a Linkin Park
END:VEVENT
END:VCALENDAR
