BEGIN:VCALENDAR
VERSION:2.0
PRODID:icalendar-ruby
CALSCALE:GREGORIAN
METHOD:PUBLISH
BEGIN:VEVENT
DTSTAMP:20260423T104714Z
UID:event-12223-2024-08-02T09:00:00+02:00-2024-08-02T14:00:00+02:00
DTSTART;TZID=Europe/Madrid:20240802T090000
DTEND;TZID=Europe/Madrid:20240802T140000
DESCRIPTION:Durante el mes de agosto el Espacio Expositivo del Espacio Jove
 n acoge las obras de Gabriela San Emeterio. Joven artista santanderina que
  actualmente está cursando el grado de Bellas Artes en la Universidad de 
 Salamanca. 
SUMMARY:"Lo banal en silencio"\, obras de Gabriela San Emeterio
END:VEVENT
BEGIN:VEVENT
DTSTAMP:20260423T104714Z
UID:event-12223-2024-08-03T09:00:00+02:00-2024-08-03T14:00:00+02:00
DTSTART;TZID=Europe/Madrid:20240803T090000
DTEND;TZID=Europe/Madrid:20240803T140000
DESCRIPTION:Durante el mes de agosto el Espacio Expositivo del Espacio Jove
 n acoge las obras de Gabriela San Emeterio. Joven artista santanderina que
  actualmente está cursando el grado de Bellas Artes en la Universidad de 
 Salamanca. 
SUMMARY:"Lo banal en silencio"\, obras de Gabriela San Emeterio
END:VEVENT
BEGIN:VEVENT
DTSTAMP:20260423T104714Z
UID:event-12223-2024-08-04T09:00:00+02:00-2024-08-04T14:00:00+02:00
DTSTART;TZID=Europe/Madrid:20240804T090000
DTEND;TZID=Europe/Madrid:20240804T140000
DESCRIPTION:Durante el mes de agosto el Espacio Expositivo del Espacio Jove
 n acoge las obras de Gabriela San Emeterio. Joven artista santanderina que
  actualmente está cursando el grado de Bellas Artes en la Universidad de 
 Salamanca. 
SUMMARY:"Lo banal en silencio"\, obras de Gabriela San Emeterio
END:VEVENT
BEGIN:VEVENT
DTSTAMP:20260423T104714Z
UID:event-12223-2024-08-05T09:00:00+02:00-2024-08-05T14:00:00+02:00
DTSTART;TZID=Europe/Madrid:20240805T090000
DTEND;TZID=Europe/Madrid:20240805T140000
DESCRIPTION:Durante el mes de agosto el Espacio Expositivo del Espacio Jove
 n acoge las obras de Gabriela San Emeterio. Joven artista santanderina que
  actualmente está cursando el grado de Bellas Artes en la Universidad de 
 Salamanca. 
SUMMARY:"Lo banal en silencio"\, obras de Gabriela San Emeterio
END:VEVENT
BEGIN:VEVENT
DTSTAMP:20260423T104714Z
UID:event-12223-2024-08-07T09:00:00+02:00-2024-08-07T14:00:00+02:00
DTSTART;TZID=Europe/Madrid:20240807T090000
DTEND;TZID=Europe/Madrid:20240807T140000
DESCRIPTION:Durante el mes de agosto el Espacio Expositivo del Espacio Jove
 n acoge las obras de Gabriela San Emeterio. Joven artista santanderina que
  actualmente está cursando el grado de Bellas Artes en la Universidad de 
 Salamanca. 
SUMMARY:"Lo banal en silencio"\, obras de Gabriela San Emeterio
END:VEVENT
BEGIN:VEVENT
DTSTAMP:20260423T104714Z
UID:event-12223-2024-08-08T09:00:00+02:00-2024-08-08T14:00:00+02:00
DTSTART;TZID=Europe/Madrid:20240808T090000
DTEND;TZID=Europe/Madrid:20240808T140000
DESCRIPTION:Durante el mes de agosto el Espacio Expositivo del Espacio Jove
 n acoge las obras de Gabriela San Emeterio. Joven artista santanderina que
  actualmente está cursando el grado de Bellas Artes en la Universidad de 
 Salamanca. 
SUMMARY:"Lo banal en silencio"\, obras de Gabriela San Emeterio
END:VEVENT
BEGIN:VEVENT
DTSTAMP:20260423T104714Z
UID:event-12223-2024-08-09T09:00:00+02:00-2024-08-09T14:00:00+02:00
DTSTART;TZID=Europe/Madrid:20240809T090000
DTEND;TZID=Europe/Madrid:20240809T140000
DESCRIPTION:Durante el mes de agosto el Espacio Expositivo del Espacio Jove
 n acoge las obras de Gabriela San Emeterio. Joven artista santanderina que
  actualmente está cursando el grado de Bellas Artes en la Universidad de 
 Salamanca. 
SUMMARY:"Lo banal en silencio"\, obras de Gabriela San Emeterio
END:VEVENT
BEGIN:VEVENT
DTSTAMP:20260423T104714Z
UID:event-12223-2024-08-10T09:00:00+02:00-2024-08-10T14:00:00+02:00
DTSTART;TZID=Europe/Madrid:20240810T090000
DTEND;TZID=Europe/Madrid:20240810T140000
DESCRIPTION:Durante el mes de agosto el Espacio Expositivo del Espacio Jove
 n acoge las obras de Gabriela San Emeterio. Joven artista santanderina que
  actualmente está cursando el grado de Bellas Artes en la Universidad de 
 Salamanca. 
SUMMARY:"Lo banal en silencio"\, obras de Gabriela San Emeterio
END:VEVENT
BEGIN:VEVENT
DTSTAMP:20260423T104714Z
UID:event-12223-2024-08-11T09:00:00+02:00-2024-08-11T14:00:00+02:00
DTSTART;TZID=Europe/Madrid:20240811T090000
DTEND;TZID=Europe/Madrid:20240811T140000
DESCRIPTION:Durante el mes de agosto el Espacio Expositivo del Espacio Jove
 n acoge las obras de Gabriela San Emeterio. Joven artista santanderina que
  actualmente está cursando el grado de Bellas Artes en la Universidad de 
 Salamanca. 
SUMMARY:"Lo banal en silencio"\, obras de Gabriela San Emeterio
END:VEVENT
BEGIN:VEVENT
DTSTAMP:20260423T104714Z
UID:event-12223-2024-08-12T09:00:00+02:00-2024-08-12T14:00:00+02:00
DTSTART;TZID=Europe/Madrid:20240812T090000
DTEND;TZID=Europe/Madrid:20240812T140000
DESCRIPTION:Durante el mes de agosto el Espacio Expositivo del Espacio Jove
 n acoge las obras de Gabriela San Emeterio. Joven artista santanderina que
  actualmente está cursando el grado de Bellas Artes en la Universidad de 
 Salamanca. 
SUMMARY:"Lo banal en silencio"\, obras de Gabriela San Emeterio
END:VEVENT
BEGIN:VEVENT
DTSTAMP:20260423T104714Z
UID:event-12223-2024-08-13T09:00:00+02:00-2024-08-13T14:00:00+02:00
DTSTART;TZID=Europe/Madrid:20240813T090000
DTEND;TZID=Europe/Madrid:20240813T140000
DESCRIPTION:Durante el mes de agosto el Espacio Expositivo del Espacio Jove
 n acoge las obras de Gabriela San Emeterio. Joven artista santanderina que
  actualmente está cursando el grado de Bellas Artes en la Universidad de 
 Salamanca. 
SUMMARY:"Lo banal en silencio"\, obras de Gabriela San Emeterio
END:VEVENT
BEGIN:VEVENT
DTSTAMP:20260423T104714Z
UID:event-12223-2024-08-14T09:00:00+02:00-2024-08-14T14:00:00+02:00
DTSTART;TZID=Europe/Madrid:20240814T090000
DTEND;TZID=Europe/Madrid:20240814T140000
DESCRIPTION:Durante el mes de agosto el Espacio Expositivo del Espacio Jove
 n acoge las obras de Gabriela San Emeterio. Joven artista santanderina que
  actualmente está cursando el grado de Bellas Artes en la Universidad de 
 Salamanca. 
SUMMARY:"Lo banal en silencio"\, obras de Gabriela San Emeterio
END:VEVENT
BEGIN:VEVENT
DTSTAMP:20260423T104714Z
UID:event-12223-2024-08-15T09:00:00+02:00-2024-08-15T14:00:00+02:00
DTSTART;TZID=Europe/Madrid:20240815T090000
DTEND;TZID=Europe/Madrid:20240815T140000
DESCRIPTION:Durante el mes de agosto el Espacio Expositivo del Espacio Jove
 n acoge las obras de Gabriela San Emeterio. Joven artista santanderina que
  actualmente está cursando el grado de Bellas Artes en la Universidad de 
 Salamanca. 
SUMMARY:"Lo banal en silencio"\, obras de Gabriela San Emeterio
END:VEVENT
BEGIN:VEVENT
DTSTAMP:20260423T104714Z
UID:event-12223-2024-08-16T09:00:00+02:00-2024-08-16T14:00:00+02:00
DTSTART;TZID=Europe/Madrid:20240816T090000
DTEND;TZID=Europe/Madrid:20240816T140000
DESCRIPTION:Durante el mes de agosto el Espacio Expositivo del Espacio Jove
 n acoge las obras de Gabriela San Emeterio. Joven artista santanderina que
  actualmente está cursando el grado de Bellas Artes en la Universidad de 
 Salamanca. 
SUMMARY:"Lo banal en silencio"\, obras de Gabriela San Emeterio
END:VEVENT
BEGIN:VEVENT
DTSTAMP:20260423T104714Z
UID:event-12223-2024-08-17T09:00:00+02:00-2024-08-17T14:00:00+02:00
DTSTART;TZID=Europe/Madrid:20240817T090000
DTEND;TZID=Europe/Madrid:20240817T140000
DESCRIPTION:Durante el mes de agosto el Espacio Expositivo del Espacio Jove
 n acoge las obras de Gabriela San Emeterio. Joven artista santanderina que
  actualmente está cursando el grado de Bellas Artes en la Universidad de 
 Salamanca. 
SUMMARY:"Lo banal en silencio"\, obras de Gabriela San Emeterio
END:VEVENT
BEGIN:VEVENT
DTSTAMP:20260423T104714Z
UID:event-12223-2024-08-18T09:00:00+02:00-2024-08-18T14:00:00+02:00
DTSTART;TZID=Europe/Madrid:20240818T090000
DTEND;TZID=Europe/Madrid:20240818T140000
DESCRIPTION:Durante el mes de agosto el Espacio Expositivo del Espacio Jove
 n acoge las obras de Gabriela San Emeterio. Joven artista santanderina que
  actualmente está cursando el grado de Bellas Artes en la Universidad de 
 Salamanca. 
SUMMARY:"Lo banal en silencio"\, obras de Gabriela San Emeterio
END:VEVENT
BEGIN:VEVENT
DTSTAMP:20260423T104714Z
UID:event-12223-2024-08-19T09:00:00+02:00-2024-08-19T14:00:00+02:00
DTSTART;TZID=Europe/Madrid:20240819T090000
DTEND;TZID=Europe/Madrid:20240819T140000
DESCRIPTION:Durante el mes de agosto el Espacio Expositivo del Espacio Jove
 n acoge las obras de Gabriela San Emeterio. Joven artista santanderina que
  actualmente está cursando el grado de Bellas Artes en la Universidad de 
 Salamanca. 
SUMMARY:"Lo banal en silencio"\, obras de Gabriela San Emeterio
END:VEVENT
BEGIN:VEVENT
DTSTAMP:20260423T104714Z
UID:event-12223-2024-08-20T09:00:00+02:00-2024-08-20T14:00:00+02:00
DTSTART;TZID=Europe/Madrid:20240820T090000
DTEND;TZID=Europe/Madrid:20240820T140000
DESCRIPTION:Durante el mes de agosto el Espacio Expositivo del Espacio Jove
 n acoge las obras de Gabriela San Emeterio. Joven artista santanderina que
  actualmente está cursando el grado de Bellas Artes en la Universidad de 
 Salamanca. 
SUMMARY:"Lo banal en silencio"\, obras de Gabriela San Emeterio
END:VEVENT
BEGIN:VEVENT
DTSTAMP:20260423T104714Z
UID:event-12223-2024-08-21T09:00:00+02:00-2024-08-21T14:00:00+02:00
DTSTART;TZID=Europe/Madrid:20240821T090000
DTEND;TZID=Europe/Madrid:20240821T140000
DESCRIPTION:Durante el mes de agosto el Espacio Expositivo del Espacio Jove
 n acoge las obras de Gabriela San Emeterio. Joven artista santanderina que
  actualmente está cursando el grado de Bellas Artes en la Universidad de 
 Salamanca. 
SUMMARY:"Lo banal en silencio"\, obras de Gabriela San Emeterio
END:VEVENT
BEGIN:VEVENT
DTSTAMP:20260423T104714Z
UID:event-12223-2024-08-22T09:00:00+02:00-2024-08-22T14:00:00+02:00
DTSTART;TZID=Europe/Madrid:20240822T090000
DTEND;TZID=Europe/Madrid:20240822T140000
DESCRIPTION:Durante el mes de agosto el Espacio Expositivo del Espacio Jove
 n acoge las obras de Gabriela San Emeterio. Joven artista santanderina que
  actualmente está cursando el grado de Bellas Artes en la Universidad de 
 Salamanca. 
SUMMARY:"Lo banal en silencio"\, obras de Gabriela San Emeterio
END:VEVENT
BEGIN:VEVENT
DTSTAMP:20260423T104714Z
UID:event-12223-2024-08-23T09:00:00+02:00-2024-08-23T14:00:00+02:00
DTSTART;TZID=Europe/Madrid:20240823T090000
DTEND;TZID=Europe/Madrid:20240823T140000
DESCRIPTION:Durante el mes de agosto el Espacio Expositivo del Espacio Jove
 n acoge las obras de Gabriela San Emeterio. Joven artista santanderina que
  actualmente está cursando el grado de Bellas Artes en la Universidad de 
 Salamanca. 
SUMMARY:"Lo banal en silencio"\, obras de Gabriela San Emeterio
END:VEVENT
BEGIN:VEVENT
DTSTAMP:20260423T104714Z
UID:event-12223-2024-08-24T09:00:00+02:00-2024-08-24T14:00:00+02:00
DTSTART;TZID=Europe/Madrid:20240824T090000
DTEND;TZID=Europe/Madrid:20240824T140000
DESCRIPTION:Durante el mes de agosto el Espacio Expositivo del Espacio Jove
 n acoge las obras de Gabriela San Emeterio. Joven artista santanderina que
  actualmente está cursando el grado de Bellas Artes en la Universidad de 
 Salamanca. 
SUMMARY:"Lo banal en silencio"\, obras de Gabriela San Emeterio
END:VEVENT
BEGIN:VEVENT
DTSTAMP:20260423T104714Z
UID:event-12223-2024-08-25T09:00:00+02:00-2024-08-25T14:00:00+02:00
DTSTART;TZID=Europe/Madrid:20240825T090000
DTEND;TZID=Europe/Madrid:20240825T140000
DESCRIPTION:Durante el mes de agosto el Espacio Expositivo del Espacio Jove
 n acoge las obras de Gabriela San Emeterio. Joven artista santanderina que
  actualmente está cursando el grado de Bellas Artes en la Universidad de 
 Salamanca. 
SUMMARY:"Lo banal en silencio"\, obras de Gabriela San Emeterio
END:VEVENT
BEGIN:VEVENT
DTSTAMP:20260423T104714Z
UID:event-12223-2024-08-26T09:00:00+02:00-2024-08-26T14:00:00+02:00
DTSTART;TZID=Europe/Madrid:20240826T090000
DTEND;TZID=Europe/Madrid:20240826T140000
DESCRIPTION:Durante el mes de agosto el Espacio Expositivo del Espacio Jove
 n acoge las obras de Gabriela San Emeterio. Joven artista santanderina que
  actualmente está cursando el grado de Bellas Artes en la Universidad de 
 Salamanca. 
SUMMARY:"Lo banal en silencio"\, obras de Gabriela San Emeterio
END:VEVENT
BEGIN:VEVENT
DTSTAMP:20260423T104714Z
UID:event-12223-2024-08-27T09:00:00+02:00-2024-08-27T14:00:00+02:00
DTSTART;TZID=Europe/Madrid:20240827T090000
DTEND;TZID=Europe/Madrid:20240827T140000
DESCRIPTION:Durante el mes de agosto el Espacio Expositivo del Espacio Jove
 n acoge las obras de Gabriela San Emeterio. Joven artista santanderina que
  actualmente está cursando el grado de Bellas Artes en la Universidad de 
 Salamanca. 
SUMMARY:"Lo banal en silencio"\, obras de Gabriela San Emeterio
END:VEVENT
BEGIN:VEVENT
DTSTAMP:20260423T104714Z
UID:event-12223-2024-08-28T09:00:00+02:00-2024-08-28T14:00:00+02:00
DTSTART;TZID=Europe/Madrid:20240828T090000
DTEND;TZID=Europe/Madrid:20240828T140000
DESCRIPTION:Durante el mes de agosto el Espacio Expositivo del Espacio Jove
 n acoge las obras de Gabriela San Emeterio. Joven artista santanderina que
  actualmente está cursando el grado de Bellas Artes en la Universidad de 
 Salamanca. 
SUMMARY:"Lo banal en silencio"\, obras de Gabriela San Emeterio
END:VEVENT
BEGIN:VEVENT
DTSTAMP:20260423T104714Z
UID:event-12223-2024-08-29T09:00:00+02:00-2024-08-29T14:00:00+02:00
DTSTART;TZID=Europe/Madrid:20240829T090000
DTEND;TZID=Europe/Madrid:20240829T140000
DESCRIPTION:Durante el mes de agosto el Espacio Expositivo del Espacio Jove
 n acoge las obras de Gabriela San Emeterio. Joven artista santanderina que
  actualmente está cursando el grado de Bellas Artes en la Universidad de 
 Salamanca. 
SUMMARY:"Lo banal en silencio"\, obras de Gabriela San Emeterio
END:VEVENT
BEGIN:VEVENT
DTSTAMP:20260423T104714Z
UID:event-12223-2024-08-30T09:00:00+02:00-2024-08-30T14:00:00+02:00
DTSTART;TZID=Europe/Madrid:20240830T090000
DTEND;TZID=Europe/Madrid:20240830T140000
DESCRIPTION:Durante el mes de agosto el Espacio Expositivo del Espacio Jove
 n acoge las obras de Gabriela San Emeterio. Joven artista santanderina que
  actualmente está cursando el grado de Bellas Artes en la Universidad de 
 Salamanca. 
SUMMARY:"Lo banal en silencio"\, obras de Gabriela San Emeterio
END:VEVENT
BEGIN:VEVENT
DTSTAMP:20260423T104714Z
UID:event-12223-2024-08-31T09:00:00+02:00-2024-08-31T14:00:00+02:00
DTSTART;TZID=Europe/Madrid:20240831T090000
DTEND;TZID=Europe/Madrid:20240831T140000
DESCRIPTION:Durante el mes de agosto el Espacio Expositivo del Espacio Jove
 n acoge las obras de Gabriela San Emeterio. Joven artista santanderina que
  actualmente está cursando el grado de Bellas Artes en la Universidad de 
 Salamanca. 
SUMMARY:"Lo banal en silencio"\, obras de Gabriela San Emeterio
END:VEVENT
END:VCALENDAR
