BEGIN:VCALENDAR
VERSION:2.0
PRODID:icalendar-ruby
CALSCALE:GREGORIAN
METHOD:PUBLISH
BEGIN:VEVENT
DTSTAMP:20260421T223043Z
UID:event-22319-2026-05-07T19:00:00+02:00-none
DTSTART;TZID=Europe/Madrid:20260507T190000
DESCRIPTION:La época en que vivió Jesús de Nazaret\, el más universal d
 e los judíos\, sigue suscitando interpretaciones controvertidas. Tres rec
 onocidos especialistas abordan el estudio de este trascendental periodo hi
 stórico.
SUMMARY:"Los esenios de qumrám y los rollos del mar muerto"\, por Julio Tr
 ebolle
END:VEVENT
END:VCALENDAR
