BEGIN:VCALENDAR
VERSION:2.0
PRODID:icalendar-ruby
CALSCALE:GREGORIAN
METHOD:PUBLISH
BEGIN:VEVENT
DTSTAMP:20260421T202436Z
UID:event-22119-2026-08-07T20:00:00+02:00-none
DTSTART;TZID=Europe/Madrid:20260807T200000
DESCRIPTION:Desde que se fundó en 1997\, la Mahler Chamber Orchestra (MCO)
  se ha consolidado como una de las orquestas de cámara más reconocidas d
 el mundo. 
SUMMARY:Mahler Chamber Orchestra. Daniil Trifonov\, piano. Daniel Harding\,
  director
END:VEVENT
END:VCALENDAR
