BEGIN:VCALENDAR
VERSION:2.0
PRODID:icalendar-ruby
CALSCALE:GREGORIAN
METHOD:PUBLISH
BEGIN:VEVENT
DTSTAMP:20260423T154725Z
UID:event-17390-2025-07-01T19:30:00+02:00-none
DTSTART;TZID=Europe/Madrid:20250701T193000
DESCRIPTION:La obra del pedagogo Manuel Bartolomé Cossío (1857-1935) lo s
 itúa como uno de los educadores más relevantes de la historia de nuestro
  país en el contexto del proyecto de la Institución Libre de Enseñanza.
  
SUMMARY:"Manuel Bartolomé Cossío y la Institución Libre de Enseñanza"\,
  conferencia de Luis Alfonso Iglesias 
END:VEVENT
END:VCALENDAR
