BEGIN:VCALENDAR
VERSION:2.0
PRODID:icalendar-ruby
CALSCALE:GREGORIAN
METHOD:PUBLISH
BEGIN:VEVENT
DTSTAMP:20260423T134841Z
UID:event-22264-2026-08-06T20:30:00+02:00-none
DTSTART;TZID=Europe/Madrid:20260806T203000
DESCRIPTION:Este espectáculo reproduce la conferencia de Lorca junto con a
 lgunas de las canciones que Lorca\, en su afán por dignificar la cultura 
 popular española\, recabó\, armonizó y grabó como Canciones Españolas
  Antiguas.
SUMMARY:Marcos Históricos: Cómo canta una ciudad
END:VEVENT
END:VCALENDAR
