BEGIN:VCALENDAR
VERSION:2.0
PRODID:icalendar-ruby
CALSCALE:GREGORIAN
METHOD:PUBLISH
BEGIN:VEVENT
DTSTAMP:20260425T170933Z
UID:event-22165-2026-08-04T21:00:00+02:00-none
DTSTART;TZID=Europe/Madrid:20260804T210000
DESCRIPTION:Esta terna de artistas nos ofrece un programa que plantea un di
 álogo fascinante sobre la música del siglo XX a través de un formato ex
 igente y poco convencional como el trío de violín\, clarinete y piano.
SUMMARY:Marcos Históricos: Francesca Dego\, violín. Alessandro Carbonare\
 , clarinete. Alesssandro Taverna\, piano
END:VEVENT
END:VCALENDAR
