BEGIN:VCALENDAR
VERSION:2.0
PRODID:icalendar-ruby
CALSCALE:GREGORIAN
METHOD:PUBLISH
BEGIN:VEVENT
DTSTAMP:20260419T203236Z
UID:event-22140-2026-04-27T21:30:00+02:00-none
DTSTART;TZID=Europe/Madrid:20260427T213000
DESCRIPTION:Marina Fages es de esas artistas que nunca pasan desapercibidas
 . Su fusión de punk experimental\, sensibilidad pop y arte visual la ha c
 onvertido en una de las figuras más potentes del rock alternativo latinoa
 mericano actual.
SUMMARY:Marina Fages en el New
END:VEVENT
END:VCALENDAR
