BEGIN:VCALENDAR
VERSION:2.0
PRODID:icalendar-ruby
CALSCALE:GREGORIAN
METHOD:PUBLISH
BEGIN:VEVENT
DTSTAMP:20260421T222723Z
UID:event-22330-2026-06-04T19:30:00+02:00-none
DTSTART;TZID=Europe/Madrid:20260604T193000
DESCRIPTION:El Aula de Patrimonio cultural propone abordar el tema de la co
 nsecuencias sociales y patrimoniales que tuvo el devastador incendio produ
 cido en la ciudad de Santander en 1941.
SUMMARY:"Más allá de los edificios. La reconstrucción socioeconómica de
  Santander tras su incendio"\, por Guillermo Revuelta
END:VEVENT
END:VCALENDAR
