BEGIN:VCALENDAR
VERSION:2.0
PRODID:icalendar-ruby
CALSCALE:GREGORIAN
METHOD:PUBLISH
BEGIN:VEVENT
DTSTAMP:20260420T144446Z
UID:event-14095-2024-12-02T18:00:00+01:00-none
DTSTART;TZID=Europe/Madrid:20241202T180000
DESCRIPTION:¡Llega Navidad! Vamos a crear un bonito árbol navideño para 
 que os llevéis a casa…
SUMMARY:"Más que leer"\, actividades de animación a la lectura: "El árbo
 l de Navidad"
END:VEVENT
BEGIN:VEVENT
DTSTAMP:20260420T144446Z
UID:event-14095-2024-12-03T18:00:00+01:00-none
DTSTART;TZID=Europe/Madrid:20241203T180000
DESCRIPTION:¡Llega Navidad! Vamos a crear un bonito árbol navideño para 
 que os llevéis a casa…
SUMMARY:"Más que leer"\, actividades de animación a la lectura: "El árbo
 l de Navidad"
END:VEVENT
BEGIN:VEVENT
DTSTAMP:20260420T144446Z
UID:event-14095-2024-12-04T18:00:00+01:00-none
DTSTART;TZID=Europe/Madrid:20241204T180000
DESCRIPTION:¡Llega Navidad! Vamos a crear un bonito árbol navideño para 
 que os llevéis a casa…
SUMMARY:"Más que leer"\, actividades de animación a la lectura: "El árbo
 l de Navidad"
END:VEVENT
BEGIN:VEVENT
DTSTAMP:20260420T144446Z
UID:event-14095-2024-12-05T18:00:00+01:00-none
DTSTART;TZID=Europe/Madrid:20241205T180000
DESCRIPTION:¡Llega Navidad! Vamos a crear un bonito árbol navideño para 
 que os llevéis a casa…
SUMMARY:"Más que leer"\, actividades de animación a la lectura: "El árbo
 l de Navidad"
END:VEVENT
BEGIN:VEVENT
DTSTAMP:20260420T144446Z
UID:event-14095-2024-12-09T18:00:00+01:00-none
DTSTART;TZID=Europe/Madrid:20241209T180000
DESCRIPTION:¡Llega Navidad! Vamos a crear un bonito árbol navideño para 
 que os llevéis a casa…
SUMMARY:"Más que leer"\, actividades de animación a la lectura: "El árbo
 l de Navidad"
END:VEVENT
BEGIN:VEVENT
DTSTAMP:20260420T144446Z
UID:event-14095-2024-12-10T18:00:00+01:00-none
DTSTART;TZID=Europe/Madrid:20241210T180000
DESCRIPTION:¡Llega Navidad! Vamos a crear un bonito árbol navideño para 
 que os llevéis a casa…
SUMMARY:"Más que leer"\, actividades de animación a la lectura: "El árbo
 l de Navidad"
END:VEVENT
BEGIN:VEVENT
DTSTAMP:20260420T144446Z
UID:event-14095-2024-12-11T18:00:00+01:00-none
DTSTART;TZID=Europe/Madrid:20241211T180000
DESCRIPTION:¡Llega Navidad! Vamos a crear un bonito árbol navideño para 
 que os llevéis a casa…
SUMMARY:"Más que leer"\, actividades de animación a la lectura: "El árbo
 l de Navidad"
END:VEVENT
END:VCALENDAR
