BEGIN:VCALENDAR
VERSION:2.0
PRODID:icalendar-ruby
CALSCALE:GREGORIAN
METHOD:PUBLISH
BEGIN:VEVENT
DTSTAMP:20260420T182041Z
UID:event-21830-2026-04-14T18:00:00+02:00-none
DTSTART;TZID=Europe/Madrid:20260414T180000
DESCRIPTION:La Red de Bibliotecas Municipales de Santander continúa sus ac
 tividades de animación a lectura y presenta “Donde habita la memoria\, 
 un taller familiar gratuito\, a partir de 5 años. Un viaje por el tiempo\
 , un recorrido por la escritura. 
SUMMARY:Más que leer: Donde habita la memoria
END:VEVENT
BEGIN:VEVENT
DTSTAMP:20260420T182041Z
UID:event-21830-2026-04-16T18:00:00+02:00-none
DTSTART;TZID=Europe/Madrid:20260416T180000
DESCRIPTION:La Red de Bibliotecas Municipales de Santander continúa sus ac
 tividades de animación a lectura y presenta “Donde habita la memoria\, 
 un taller familiar gratuito\, a partir de 5 años. Un viaje por el tiempo\
 , un recorrido por la escritura. 
SUMMARY:Más que leer: Donde habita la memoria
END:VEVENT
BEGIN:VEVENT
DTSTAMP:20260420T182041Z
UID:event-21830-2026-04-17T18:00:00+02:00-none
DTSTART;TZID=Europe/Madrid:20260417T180000
DESCRIPTION:La Red de Bibliotecas Municipales de Santander continúa sus ac
 tividades de animación a lectura y presenta “Donde habita la memoria\, 
 un taller familiar gratuito\, a partir de 5 años. Un viaje por el tiempo\
 , un recorrido por la escritura. 
SUMMARY:Más que leer: Donde habita la memoria
END:VEVENT
BEGIN:VEVENT
DTSTAMP:20260420T182042Z
UID:event-21830-2026-04-21T18:00:00+02:00-none
DTSTART;TZID=Europe/Madrid:20260421T180000
DESCRIPTION:La Red de Bibliotecas Municipales de Santander continúa sus ac
 tividades de animación a lectura y presenta “Donde habita la memoria\, 
 un taller familiar gratuito\, a partir de 5 años. Un viaje por el tiempo\
 , un recorrido por la escritura. 
SUMMARY:Más que leer: Donde habita la memoria
END:VEVENT
BEGIN:VEVENT
DTSTAMP:20260420T182042Z
UID:event-21830-2026-04-23T18:00:00+02:00-none
DTSTART;TZID=Europe/Madrid:20260423T180000
DESCRIPTION:La Red de Bibliotecas Municipales de Santander continúa sus ac
 tividades de animación a lectura y presenta “Donde habita la memoria\, 
 un taller familiar gratuito\, a partir de 5 años. Un viaje por el tiempo\
 , un recorrido por la escritura. 
SUMMARY:Más que leer: Donde habita la memoria
END:VEVENT
BEGIN:VEVENT
DTSTAMP:20260420T182042Z
UID:event-21830-2026-04-24T18:00:00+02:00-none
DTSTART;TZID=Europe/Madrid:20260424T180000
DESCRIPTION:La Red de Bibliotecas Municipales de Santander continúa sus ac
 tividades de animación a lectura y presenta “Donde habita la memoria\, 
 un taller familiar gratuito\, a partir de 5 años. Un viaje por el tiempo\
 , un recorrido por la escritura. 
SUMMARY:Más que leer: Donde habita la memoria
END:VEVENT
BEGIN:VEVENT
DTSTAMP:20260420T182042Z
UID:event-21830-2026-04-28T18:00:00+02:00-none
DTSTART;TZID=Europe/Madrid:20260428T180000
DESCRIPTION:La Red de Bibliotecas Municipales de Santander continúa sus ac
 tividades de animación a lectura y presenta “Donde habita la memoria\, 
 un taller familiar gratuito\, a partir de 5 años. Un viaje por el tiempo\
 , un recorrido por la escritura. 
SUMMARY:Más que leer: Donde habita la memoria
END:VEVENT
BEGIN:VEVENT
DTSTAMP:20260420T182042Z
UID:event-21830-2026-04-30T18:00:00+02:00-none
DTSTART;TZID=Europe/Madrid:20260430T180000
DESCRIPTION:La Red de Bibliotecas Municipales de Santander continúa sus ac
 tividades de animación a lectura y presenta “Donde habita la memoria\, 
 un taller familiar gratuito\, a partir de 5 años. Un viaje por el tiempo\
 , un recorrido por la escritura. 
SUMMARY:Más que leer: Donde habita la memoria
END:VEVENT
END:VCALENDAR
