BEGIN:VCALENDAR
VERSION:2.0
PRODID:icalendar-ruby
CALSCALE:GREGORIAN
METHOD:PUBLISH
BEGIN:VEVENT
DTSTAMP:20260420T181640Z
UID:event-22380-2026-05-04T18:00:00+02:00-none
DTSTART;TZID=Europe/Madrid:20260504T180000
DESCRIPTION:La Red de Bibliotecas Municipales de Santander continúa sus ac
 tividades de animación a lectura y presenta “Un cuento y algo más”\,
  una actividad gratuita para público infantil de 4 a 7 años.
SUMMARY:Más que leer: Un cuento y algo más
END:VEVENT
BEGIN:VEVENT
DTSTAMP:20260420T181640Z
UID:event-22380-2026-05-05T18:00:00+02:00-none
DTSTART;TZID=Europe/Madrid:20260505T180000
DESCRIPTION:La Red de Bibliotecas Municipales de Santander continúa sus ac
 tividades de animación a lectura y presenta “Un cuento y algo más”\,
  una actividad gratuita para público infantil de 4 a 7 años.
SUMMARY:Más que leer: Un cuento y algo más
END:VEVENT
BEGIN:VEVENT
DTSTAMP:20260420T181640Z
UID:event-22380-2026-05-06T18:00:00+02:00-none
DTSTART;TZID=Europe/Madrid:20260506T180000
DESCRIPTION:La Red de Bibliotecas Municipales de Santander continúa sus ac
 tividades de animación a lectura y presenta “Un cuento y algo más”\,
  una actividad gratuita para público infantil de 4 a 7 años.
SUMMARY:Más que leer: Un cuento y algo más
END:VEVENT
BEGIN:VEVENT
DTSTAMP:20260420T181641Z
UID:event-22380-2026-05-07T18:00:00+02:00-none
DTSTART;TZID=Europe/Madrid:20260507T180000
DESCRIPTION:La Red de Bibliotecas Municipales de Santander continúa sus ac
 tividades de animación a lectura y presenta “Un cuento y algo más”\,
  una actividad gratuita para público infantil de 4 a 7 años.
SUMMARY:Más que leer: Un cuento y algo más
END:VEVENT
BEGIN:VEVENT
DTSTAMP:20260420T181641Z
UID:event-22380-2026-05-08T18:00:00+02:00-none
DTSTART;TZID=Europe/Madrid:20260508T180000
DESCRIPTION:La Red de Bibliotecas Municipales de Santander continúa sus ac
 tividades de animación a lectura y presenta “Un cuento y algo más”\,
  una actividad gratuita para público infantil de 4 a 7 años.
SUMMARY:Más que leer: Un cuento y algo más
END:VEVENT
BEGIN:VEVENT
DTSTAMP:20260420T181641Z
UID:event-22380-2026-05-11T18:00:00+02:00-none
DTSTART;TZID=Europe/Madrid:20260511T180000
DESCRIPTION:La Red de Bibliotecas Municipales de Santander continúa sus ac
 tividades de animación a lectura y presenta “Un cuento y algo más”\,
  una actividad gratuita para público infantil de 4 a 7 años.
SUMMARY:Más que leer: Un cuento y algo más
END:VEVENT
BEGIN:VEVENT
DTSTAMP:20260420T181641Z
UID:event-22380-2026-05-13T18:00:00+02:00-none
DTSTART;TZID=Europe/Madrid:20260513T180000
DESCRIPTION:La Red de Bibliotecas Municipales de Santander continúa sus ac
 tividades de animación a lectura y presenta “Un cuento y algo más”\,
  una actividad gratuita para público infantil de 4 a 7 años.
SUMMARY:Más que leer: Un cuento y algo más
END:VEVENT
BEGIN:VEVENT
DTSTAMP:20260420T181641Z
UID:event-22380-2026-05-15T18:00:00+02:00-none
DTSTART;TZID=Europe/Madrid:20260515T180000
DESCRIPTION:La Red de Bibliotecas Municipales de Santander continúa sus ac
 tividades de animación a lectura y presenta “Un cuento y algo más”\,
  una actividad gratuita para público infantil de 4 a 7 años.
SUMMARY:Más que leer: Un cuento y algo más
END:VEVENT
END:VCALENDAR
