BEGIN:VCALENDAR
VERSION:2.0
PRODID:icalendar-ruby
CALSCALE:GREGORIAN
METHOD:PUBLISH
BEGIN:VEVENT
DTSTAMP:20260420T144625Z
UID:event-21588-2026-04-21T19:00:00+02:00-none
DTSTART;TZID=Europe/Madrid:20260421T190000
DESCRIPTION:Con ocasión del LVIII aniversario del fallecimiento de Matilde
  de la Torre (1884-1946) el Aula Interdisciplinar Isabel Torres de Estudio
 s de las Mujeres y del Género y la Fundación Matilde de la Torre organiz
 an este ciclo sobre su figura.
SUMMARY:"Matilde de la Torre (1864-1946) ochenta años después: claves par
 a la pervivencia de una escritora y política pionera"\, por María Franci
 sca Vilches de Frutos
END:VEVENT
END:VCALENDAR
