BEGIN:VCALENDAR
VERSION:2.0
PRODID:icalendar-ruby
CALSCALE:GREGORIAN
METHOD:PUBLISH
BEGIN:VEVENT
DTSTAMP:20260420T144625Z
UID:event-21592-2026-05-19T19:00:00+02:00-none
DTSTART;TZID=Europe/Madrid:20260519T190000
DESCRIPTION:Con ocasión del LVIII aniversario del fallecimiento de Matilde
  de la Torre (1884-1946)\, el Aula Interdisciplinar Isabel Torres de Estud
 ios de las Mujeres y del Género y la Fundación Matilde de la Torre organ
 izan este ciclo sobre su figura.
SUMMARY:"Matilde de la Torre y la experiencia del exilio republicano: milit
 ancia\, cultura y acción política"\, por Luis Pascual Cordero
END:VEVENT
END:VCALENDAR
