BEGIN:VCALENDAR
VERSION:2.0
PRODID:icalendar-ruby
CALSCALE:GREGORIAN
METHOD:PUBLISH
BEGIN:VEVENT
DTSTAMP:20260422T163711Z
UID:event-22096-2026-05-16T17:00:00+02:00-2026-05-16T20:00:00+02:00
DTSTART;TZID=Europe/Madrid:20260516T170000
DTEND;TZID=Europe/Madrid:20260516T200000
DESCRIPTION:¡Vuelve la cita donde la cultura y la sostenibilidad se encuen
 tran! Una jornada dedicada a reutilizar\, aprovechar y disfrutar de las se
 gundas oportunidades en un ambiente lleno de arte.
SUMMARY:Mercadillo de 2ª mano y Micro abierto
END:VEVENT
BEGIN:VEVENT
DTSTAMP:20260422T163711Z
UID:event-22096-2026-05-17T11:00:00+02:00-2026-05-17T18:00:00+02:00
DTSTART;TZID=Europe/Madrid:20260517T110000
DTEND;TZID=Europe/Madrid:20260517T180000
DESCRIPTION:¡Vuelve la cita donde la cultura y la sostenibilidad se encuen
 tran! Una jornada dedicada a reutilizar\, aprovechar y disfrutar de las se
 gundas oportunidades en un ambiente lleno de arte.
SUMMARY:Mercadillo de 2ª mano y Micro abierto
END:VEVENT
END:VCALENDAR
