BEGIN:VCALENDAR
VERSION:2.0
PRODID:icalendar-ruby
CALSCALE:GREGORIAN
METHOD:PUBLISH
BEGIN:VEVENT
DTSTAMP:20260422T163723Z
UID:event-22094-2026-05-24T19:00:00+02:00-none
DTSTART;TZID=Europe/Madrid:20260524T190000
DESCRIPTION:Desde 1985 dando palos y no soy atracador. Vienes\, te sientas\
 , te cuento mi vida\, te ríes y te vas. Más barato que ir a terapia y no
  te cansas de hablar porque hablo yo. 
SUMMARY:“Mi vida\, que no es poco”\, un espectáculo de Juan Manuel Ram
 ajo
END:VEVENT
END:VCALENDAR
