BEGIN:VCALENDAR
VERSION:2.0
PRODID:icalendar-ruby
CALSCALE:GREGORIAN
METHOD:PUBLISH
BEGIN:VEVENT
DTSTAMP:20260421T193311Z
UID:event-22273-2026-04-22T20:05:00+02:00-none
DTSTART;TZID=Europe/Madrid:20260422T200500
DESCRIPTION:Muestra el viaje de Michael Jackson más allá de la música\, 
 desde el descubrimiento de su extraordinario talento como líder de los Ja
 ckson Five hasta convertirse en una visionaria estrella.
SUMMARY:"Michael"\, dirigida por Antoine Fuqua (V.O.S.E.)
END:VEVENT
BEGIN:VEVENT
DTSTAMP:20260421T193311Z
UID:event-22273-2026-04-22T22:30:00+02:00-none
DTSTART;TZID=Europe/Madrid:20260422T223000
DESCRIPTION:Muestra el viaje de Michael Jackson más allá de la música\, 
 desde el descubrimiento de su extraordinario talento como líder de los Ja
 ckson Five hasta convertirse en una visionaria estrella.
SUMMARY:"Michael"\, dirigida por Antoine Fuqua (V.O.S.E.)
END:VEVENT
BEGIN:VEVENT
DTSTAMP:20260421T193311Z
UID:event-22273-2026-04-23T21:30:00+02:00-none
DTSTART;TZID=Europe/Madrid:20260423T213000
DESCRIPTION:Muestra el viaje de Michael Jackson más allá de la música\, 
 desde el descubrimiento de su extraordinario talento como líder de los Ja
 ckson Five hasta convertirse en una visionaria estrella.
SUMMARY:"Michael"\, dirigida por Antoine Fuqua (V.O.S.E.)
END:VEVENT
END:VCALENDAR
