BEGIN:VCALENDAR
VERSION:2.0
PRODID:icalendar-ruby
CALSCALE:GREGORIAN
METHOD:PUBLISH
BEGIN:VEVENT
DTSTAMP:20260420T173401Z
UID:event-20586-2026-09-25T19:00:00+02:00-none
DTSTART;TZID=Europe/Madrid:20260925T190000
DESCRIPTION:Músico tradicional cántabro\, reconocido por su maestría con
  el rabel y su talento para la improvisación de coplas. Figura clave en l
 a preservación y difusión del folclore de Cantabria.
SUMMARY:Miguel Cadavieco\, protagonista del ciclo "Folclore en todas las es
 taciones"
END:VEVENT
END:VCALENDAR
