BEGIN:VCALENDAR
VERSION:2.0
PRODID:icalendar-ruby
CALSCALE:GREGORIAN
METHOD:PUBLISH
BEGIN:VEVENT
DTSTAMP:20260423T083042Z
UID:event-22409-2026-05-09T19:00:00+02:00-none
DTSTART;TZID=Europe/Madrid:20260509T190000
DESCRIPTION:El 9 de mayo\, a las 19:00 h\, el centro cívico Tabacalera aco
 ge la tercera y última sesión del Molden Festival Internacional de Video
 arte 2026.
SUMMARY:Molden Festival Internacional de Videoarte. Sesión en Tabacalera
END:VEVENT
END:VCALENDAR
