BEGIN:VCALENDAR
VERSION:2.0
PRODID:icalendar-ruby
CALSCALE:GREGORIAN
METHOD:PUBLISH
BEGIN:VEVENT
DTSTAMP:20260423T052141Z
UID:event-22408-2026-05-07T19:00:00+02:00-none
DTSTART;TZID=Europe/Madrid:20260507T190000
DESCRIPTION:Un evento cinematográfico dedicado a la innovación y la creac
 ión artística en el ámbito de la videocreación\, que reunirá propuest
 as nacionales e internacionales.
SUMMARY:Molden Festival Internacional de Videoarte. Sesiones en Ateca
END:VEVENT
BEGIN:VEVENT
DTSTAMP:20260423T052141Z
UID:event-22408-2026-05-08T19:00:00+02:00-none
DTSTART;TZID=Europe/Madrid:20260508T190000
DESCRIPTION:Un evento cinematográfico dedicado a la innovación y la creac
 ión artística en el ámbito de la videocreación\, que reunirá propuest
 as nacionales e internacionales.
SUMMARY:Molden Festival Internacional de Videoarte. Sesiones en Ateca
END:VEVENT
END:VCALENDAR
