BEGIN:VCALENDAR
VERSION:2.0
PRODID:icalendar-ruby
CALSCALE:GREGORIAN
METHOD:PUBLISH
BEGIN:VEVENT
DTSTAMP:20260423T044424Z
UID:event-22194-2026-04-24T20:30:00+02:00-none
DTSTART;TZID=Europe/Madrid:20260424T203000
DESCRIPTION:Una de las voces más solicitadas\, respetadas y personales del
  flamenco contemporáneo. Al escucharla es imposible que no se te encoja e
 l alma. es lo que se llama un artista de artistas. 
SUMMARY:Montse Cortés. La perla de La Mina
END:VEVENT
END:VCALENDAR
