BEGIN:VCALENDAR
VERSION:2.0
PRODID:icalendar-ruby
CALSCALE:GREGORIAN
METHOD:PUBLISH
BEGIN:VEVENT
DTSTAMP:20260423T120515Z
UID:event-21760-2026-03-09T09:00:00+01:00-2026-03-09T13:30:00+01:00
DTSTART;TZID=Europe/Madrid:20260309T090000
DTEND;TZID=Europe/Madrid:20260309T133000
DESCRIPTION:Continuando con su programación expositiva\, el C.E.P.A. Escue
 las Verdes de Santander\, nos ofrece una exposición titulada "Mujeres en 
 la narrativa de Delibes".
SUMMARY:Mujeres en las narrativa de Delibes\, exposición
END:VEVENT
BEGIN:VEVENT
DTSTAMP:20260423T120515Z
UID:event-21760-2026-03-09T15:30:00+01:00-2026-03-09T20:00:00+01:00
DTSTART;TZID=Europe/Madrid:20260309T153000
DTEND;TZID=Europe/Madrid:20260309T200000
DESCRIPTION:Continuando con su programación expositiva\, el C.E.P.A. Escue
 las Verdes de Santander\, nos ofrece una exposición titulada "Mujeres en 
 la narrativa de Delibes".
SUMMARY:Mujeres en las narrativa de Delibes\, exposición
END:VEVENT
BEGIN:VEVENT
DTSTAMP:20260423T120515Z
UID:event-21760-2026-03-10T09:00:00+01:00-2026-03-10T13:30:00+01:00
DTSTART;TZID=Europe/Madrid:20260310T090000
DTEND;TZID=Europe/Madrid:20260310T133000
DESCRIPTION:Continuando con su programación expositiva\, el C.E.P.A. Escue
 las Verdes de Santander\, nos ofrece una exposición titulada "Mujeres en 
 la narrativa de Delibes".
SUMMARY:Mujeres en las narrativa de Delibes\, exposición
END:VEVENT
BEGIN:VEVENT
DTSTAMP:20260423T120515Z
UID:event-21760-2026-03-10T15:30:00+01:00-2026-03-10T20:00:00+01:00
DTSTART;TZID=Europe/Madrid:20260310T153000
DTEND;TZID=Europe/Madrid:20260310T200000
DESCRIPTION:Continuando con su programación expositiva\, el C.E.P.A. Escue
 las Verdes de Santander\, nos ofrece una exposición titulada "Mujeres en 
 la narrativa de Delibes".
SUMMARY:Mujeres en las narrativa de Delibes\, exposición
END:VEVENT
BEGIN:VEVENT
DTSTAMP:20260423T120515Z
UID:event-21760-2026-03-11T09:00:00+01:00-2026-03-11T13:30:00+01:00
DTSTART;TZID=Europe/Madrid:20260311T090000
DTEND;TZID=Europe/Madrid:20260311T133000
DESCRIPTION:Continuando con su programación expositiva\, el C.E.P.A. Escue
 las Verdes de Santander\, nos ofrece una exposición titulada "Mujeres en 
 la narrativa de Delibes".
SUMMARY:Mujeres en las narrativa de Delibes\, exposición
END:VEVENT
BEGIN:VEVENT
DTSTAMP:20260423T120515Z
UID:event-21760-2026-03-11T15:30:00+01:00-2026-03-11T20:00:00+01:00
DTSTART;TZID=Europe/Madrid:20260311T153000
DTEND;TZID=Europe/Madrid:20260311T200000
DESCRIPTION:Continuando con su programación expositiva\, el C.E.P.A. Escue
 las Verdes de Santander\, nos ofrece una exposición titulada "Mujeres en 
 la narrativa de Delibes".
SUMMARY:Mujeres en las narrativa de Delibes\, exposición
END:VEVENT
BEGIN:VEVENT
DTSTAMP:20260423T120515Z
UID:event-21760-2026-03-12T09:00:00+01:00-2026-03-12T13:30:00+01:00
DTSTART;TZID=Europe/Madrid:20260312T090000
DTEND;TZID=Europe/Madrid:20260312T133000
DESCRIPTION:Continuando con su programación expositiva\, el C.E.P.A. Escue
 las Verdes de Santander\, nos ofrece una exposición titulada "Mujeres en 
 la narrativa de Delibes".
SUMMARY:Mujeres en las narrativa de Delibes\, exposición
END:VEVENT
BEGIN:VEVENT
DTSTAMP:20260423T120515Z
UID:event-21760-2026-03-12T15:30:00+01:00-2026-03-12T20:00:00+01:00
DTSTART;TZID=Europe/Madrid:20260312T153000
DTEND;TZID=Europe/Madrid:20260312T200000
DESCRIPTION:Continuando con su programación expositiva\, el C.E.P.A. Escue
 las Verdes de Santander\, nos ofrece una exposición titulada "Mujeres en 
 la narrativa de Delibes".
SUMMARY:Mujeres en las narrativa de Delibes\, exposición
END:VEVENT
BEGIN:VEVENT
DTSTAMP:20260423T120515Z
UID:event-21760-2026-03-13T09:00:00+01:00-2026-03-13T13:30:00+01:00
DTSTART;TZID=Europe/Madrid:20260313T090000
DTEND;TZID=Europe/Madrid:20260313T133000
DESCRIPTION:Continuando con su programación expositiva\, el C.E.P.A. Escue
 las Verdes de Santander\, nos ofrece una exposición titulada "Mujeres en 
 la narrativa de Delibes".
SUMMARY:Mujeres en las narrativa de Delibes\, exposición
END:VEVENT
BEGIN:VEVENT
DTSTAMP:20260423T120515Z
UID:event-21760-2026-03-16T09:00:00+01:00-2026-03-16T13:30:00+01:00
DTSTART;TZID=Europe/Madrid:20260316T090000
DTEND;TZID=Europe/Madrid:20260316T133000
DESCRIPTION:Continuando con su programación expositiva\, el C.E.P.A. Escue
 las Verdes de Santander\, nos ofrece una exposición titulada "Mujeres en 
 la narrativa de Delibes".
SUMMARY:Mujeres en las narrativa de Delibes\, exposición
END:VEVENT
BEGIN:VEVENT
DTSTAMP:20260423T120515Z
UID:event-21760-2026-03-16T15:30:00+01:00-2026-03-16T20:00:00+01:00
DTSTART;TZID=Europe/Madrid:20260316T153000
DTEND;TZID=Europe/Madrid:20260316T200000
DESCRIPTION:Continuando con su programación expositiva\, el C.E.P.A. Escue
 las Verdes de Santander\, nos ofrece una exposición titulada "Mujeres en 
 la narrativa de Delibes".
SUMMARY:Mujeres en las narrativa de Delibes\, exposición
END:VEVENT
BEGIN:VEVENT
DTSTAMP:20260423T120515Z
UID:event-21760-2026-03-17T09:00:00+01:00-2026-03-17T13:30:00+01:00
DTSTART;TZID=Europe/Madrid:20260317T090000
DTEND;TZID=Europe/Madrid:20260317T133000
DESCRIPTION:Continuando con su programación expositiva\, el C.E.P.A. Escue
 las Verdes de Santander\, nos ofrece una exposición titulada "Mujeres en 
 la narrativa de Delibes".
SUMMARY:Mujeres en las narrativa de Delibes\, exposición
END:VEVENT
BEGIN:VEVENT
DTSTAMP:20260423T120515Z
UID:event-21760-2026-03-17T15:30:00+01:00-2026-03-17T20:00:00+01:00
DTSTART;TZID=Europe/Madrid:20260317T153000
DTEND;TZID=Europe/Madrid:20260317T200000
DESCRIPTION:Continuando con su programación expositiva\, el C.E.P.A. Escue
 las Verdes de Santander\, nos ofrece una exposición titulada "Mujeres en 
 la narrativa de Delibes".
SUMMARY:Mujeres en las narrativa de Delibes\, exposición
END:VEVENT
BEGIN:VEVENT
DTSTAMP:20260423T120515Z
UID:event-21760-2026-03-18T09:00:00+01:00-2026-03-18T13:30:00+01:00
DTSTART;TZID=Europe/Madrid:20260318T090000
DTEND;TZID=Europe/Madrid:20260318T133000
DESCRIPTION:Continuando con su programación expositiva\, el C.E.P.A. Escue
 las Verdes de Santander\, nos ofrece una exposición titulada "Mujeres en 
 la narrativa de Delibes".
SUMMARY:Mujeres en las narrativa de Delibes\, exposición
END:VEVENT
BEGIN:VEVENT
DTSTAMP:20260423T120515Z
UID:event-21760-2026-03-18T15:30:00+01:00-2026-03-18T20:00:00+01:00
DTSTART;TZID=Europe/Madrid:20260318T153000
DTEND;TZID=Europe/Madrid:20260318T200000
DESCRIPTION:Continuando con su programación expositiva\, el C.E.P.A. Escue
 las Verdes de Santander\, nos ofrece una exposición titulada "Mujeres en 
 la narrativa de Delibes".
SUMMARY:Mujeres en las narrativa de Delibes\, exposición
END:VEVENT
BEGIN:VEVENT
DTSTAMP:20260423T120515Z
UID:event-21760-2026-03-19T09:00:00+01:00-2026-03-19T13:30:00+01:00
DTSTART;TZID=Europe/Madrid:20260319T090000
DTEND;TZID=Europe/Madrid:20260319T133000
DESCRIPTION:Continuando con su programación expositiva\, el C.E.P.A. Escue
 las Verdes de Santander\, nos ofrece una exposición titulada "Mujeres en 
 la narrativa de Delibes".
SUMMARY:Mujeres en las narrativa de Delibes\, exposición
END:VEVENT
BEGIN:VEVENT
DTSTAMP:20260423T120515Z
UID:event-21760-2026-03-19T15:30:00+01:00-2026-03-19T20:00:00+01:00
DTSTART;TZID=Europe/Madrid:20260319T153000
DTEND;TZID=Europe/Madrid:20260319T200000
DESCRIPTION:Continuando con su programación expositiva\, el C.E.P.A. Escue
 las Verdes de Santander\, nos ofrece una exposición titulada "Mujeres en 
 la narrativa de Delibes".
SUMMARY:Mujeres en las narrativa de Delibes\, exposición
END:VEVENT
BEGIN:VEVENT
DTSTAMP:20260423T120515Z
UID:event-21760-2026-03-20T09:00:00+01:00-2026-03-20T13:30:00+01:00
DTSTART;TZID=Europe/Madrid:20260320T090000
DTEND;TZID=Europe/Madrid:20260320T133000
DESCRIPTION:Continuando con su programación expositiva\, el C.E.P.A. Escue
 las Verdes de Santander\, nos ofrece una exposición titulada "Mujeres en 
 la narrativa de Delibes".
SUMMARY:Mujeres en las narrativa de Delibes\, exposición
END:VEVENT
BEGIN:VEVENT
DTSTAMP:20260423T120515Z
UID:event-21760-2026-03-23T09:00:00+01:00-2026-03-23T13:30:00+01:00
DTSTART;TZID=Europe/Madrid:20260323T090000
DTEND;TZID=Europe/Madrid:20260323T133000
DESCRIPTION:Continuando con su programación expositiva\, el C.E.P.A. Escue
 las Verdes de Santander\, nos ofrece una exposición titulada "Mujeres en 
 la narrativa de Delibes".
SUMMARY:Mujeres en las narrativa de Delibes\, exposición
END:VEVENT
BEGIN:VEVENT
DTSTAMP:20260423T120515Z
UID:event-21760-2026-03-23T15:30:00+01:00-2026-03-23T20:00:00+01:00
DTSTART;TZID=Europe/Madrid:20260323T153000
DTEND;TZID=Europe/Madrid:20260323T200000
DESCRIPTION:Continuando con su programación expositiva\, el C.E.P.A. Escue
 las Verdes de Santander\, nos ofrece una exposición titulada "Mujeres en 
 la narrativa de Delibes".
SUMMARY:Mujeres en las narrativa de Delibes\, exposición
END:VEVENT
BEGIN:VEVENT
DTSTAMP:20260423T120515Z
UID:event-21760-2026-03-24T09:00:00+01:00-2026-03-24T13:30:00+01:00
DTSTART;TZID=Europe/Madrid:20260324T090000
DTEND;TZID=Europe/Madrid:20260324T133000
DESCRIPTION:Continuando con su programación expositiva\, el C.E.P.A. Escue
 las Verdes de Santander\, nos ofrece una exposición titulada "Mujeres en 
 la narrativa de Delibes".
SUMMARY:Mujeres en las narrativa de Delibes\, exposición
END:VEVENT
BEGIN:VEVENT
DTSTAMP:20260423T120515Z
UID:event-21760-2026-03-24T15:30:00+01:00-2026-03-24T20:00:00+01:00
DTSTART;TZID=Europe/Madrid:20260324T153000
DTEND;TZID=Europe/Madrid:20260324T200000
DESCRIPTION:Continuando con su programación expositiva\, el C.E.P.A. Escue
 las Verdes de Santander\, nos ofrece una exposición titulada "Mujeres en 
 la narrativa de Delibes".
SUMMARY:Mujeres en las narrativa de Delibes\, exposición
END:VEVENT
BEGIN:VEVENT
DTSTAMP:20260423T120515Z
UID:event-21760-2026-03-25T09:00:00+01:00-2026-03-25T13:30:00+01:00
DTSTART;TZID=Europe/Madrid:20260325T090000
DTEND;TZID=Europe/Madrid:20260325T133000
DESCRIPTION:Continuando con su programación expositiva\, el C.E.P.A. Escue
 las Verdes de Santander\, nos ofrece una exposición titulada "Mujeres en 
 la narrativa de Delibes".
SUMMARY:Mujeres en las narrativa de Delibes\, exposición
END:VEVENT
BEGIN:VEVENT
DTSTAMP:20260423T120515Z
UID:event-21760-2026-03-25T15:30:00+01:00-2026-03-25T20:00:00+01:00
DTSTART;TZID=Europe/Madrid:20260325T153000
DTEND;TZID=Europe/Madrid:20260325T200000
DESCRIPTION:Continuando con su programación expositiva\, el C.E.P.A. Escue
 las Verdes de Santander\, nos ofrece una exposición titulada "Mujeres en 
 la narrativa de Delibes".
SUMMARY:Mujeres en las narrativa de Delibes\, exposición
END:VEVENT
BEGIN:VEVENT
DTSTAMP:20260423T120515Z
UID:event-21760-2026-03-26T09:00:00+01:00-2026-03-26T13:30:00+01:00
DTSTART;TZID=Europe/Madrid:20260326T090000
DTEND;TZID=Europe/Madrid:20260326T133000
DESCRIPTION:Continuando con su programación expositiva\, el C.E.P.A. Escue
 las Verdes de Santander\, nos ofrece una exposición titulada "Mujeres en 
 la narrativa de Delibes".
SUMMARY:Mujeres en las narrativa de Delibes\, exposición
END:VEVENT
BEGIN:VEVENT
DTSTAMP:20260423T120515Z
UID:event-21760-2026-03-26T15:30:00+01:00-2026-03-26T20:00:00+01:00
DTSTART;TZID=Europe/Madrid:20260326T153000
DTEND;TZID=Europe/Madrid:20260326T200000
DESCRIPTION:Continuando con su programación expositiva\, el C.E.P.A. Escue
 las Verdes de Santander\, nos ofrece una exposición titulada "Mujeres en 
 la narrativa de Delibes".
SUMMARY:Mujeres en las narrativa de Delibes\, exposición
END:VEVENT
BEGIN:VEVENT
DTSTAMP:20260423T120515Z
UID:event-21760-2026-03-27T09:00:00+01:00-2026-03-27T13:30:00+01:00
DTSTART;TZID=Europe/Madrid:20260327T090000
DTEND;TZID=Europe/Madrid:20260327T133000
DESCRIPTION:Continuando con su programación expositiva\, el C.E.P.A. Escue
 las Verdes de Santander\, nos ofrece una exposición titulada "Mujeres en 
 la narrativa de Delibes".
SUMMARY:Mujeres en las narrativa de Delibes\, exposición
END:VEVENT
BEGIN:VEVENT
DTSTAMP:20260423T120515Z
UID:event-21760-2026-03-30T09:00:00+02:00-2026-03-30T13:30:00+02:00
DTSTART;TZID=Europe/Madrid:20260330T090000
DTEND;TZID=Europe/Madrid:20260330T133000
DESCRIPTION:Continuando con su programación expositiva\, el C.E.P.A. Escue
 las Verdes de Santander\, nos ofrece una exposición titulada "Mujeres en 
 la narrativa de Delibes".
SUMMARY:Mujeres en las narrativa de Delibes\, exposición
END:VEVENT
BEGIN:VEVENT
DTSTAMP:20260423T120515Z
UID:event-21760-2026-03-30T15:30:00+02:00-2026-03-30T20:00:00+02:00
DTSTART;TZID=Europe/Madrid:20260330T153000
DTEND;TZID=Europe/Madrid:20260330T200000
DESCRIPTION:Continuando con su programación expositiva\, el C.E.P.A. Escue
 las Verdes de Santander\, nos ofrece una exposición titulada "Mujeres en 
 la narrativa de Delibes".
SUMMARY:Mujeres en las narrativa de Delibes\, exposición
END:VEVENT
BEGIN:VEVENT
DTSTAMP:20260423T120515Z
UID:event-21760-2026-03-31T09:00:00+02:00-2026-03-31T13:30:00+02:00
DTSTART;TZID=Europe/Madrid:20260331T090000
DTEND;TZID=Europe/Madrid:20260331T133000
DESCRIPTION:Continuando con su programación expositiva\, el C.E.P.A. Escue
 las Verdes de Santander\, nos ofrece una exposición titulada "Mujeres en 
 la narrativa de Delibes".
SUMMARY:Mujeres en las narrativa de Delibes\, exposición
END:VEVENT
BEGIN:VEVENT
DTSTAMP:20260423T120515Z
UID:event-21760-2026-03-31T15:30:00+02:00-2026-03-31T20:00:00+02:00
DTSTART;TZID=Europe/Madrid:20260331T153000
DTEND;TZID=Europe/Madrid:20260331T200000
DESCRIPTION:Continuando con su programación expositiva\, el C.E.P.A. Escue
 las Verdes de Santander\, nos ofrece una exposición titulada "Mujeres en 
 la narrativa de Delibes".
SUMMARY:Mujeres en las narrativa de Delibes\, exposición
END:VEVENT
BEGIN:VEVENT
DTSTAMP:20260423T120515Z
UID:event-21760-2026-04-01T09:00:00+02:00-2026-04-01T13:30:00+02:00
DTSTART;TZID=Europe/Madrid:20260401T090000
DTEND;TZID=Europe/Madrid:20260401T133000
DESCRIPTION:Continuando con su programación expositiva\, el C.E.P.A. Escue
 las Verdes de Santander\, nos ofrece una exposición titulada "Mujeres en 
 la narrativa de Delibes".
SUMMARY:Mujeres en las narrativa de Delibes\, exposición
END:VEVENT
BEGIN:VEVENT
DTSTAMP:20260423T120515Z
UID:event-21760-2026-04-01T15:30:00+02:00-2026-04-01T20:00:00+02:00
DTSTART;TZID=Europe/Madrid:20260401T153000
DTEND;TZID=Europe/Madrid:20260401T200000
DESCRIPTION:Continuando con su programación expositiva\, el C.E.P.A. Escue
 las Verdes de Santander\, nos ofrece una exposición titulada "Mujeres en 
 la narrativa de Delibes".
SUMMARY:Mujeres en las narrativa de Delibes\, exposición
END:VEVENT
BEGIN:VEVENT
DTSTAMP:20260423T120515Z
UID:event-21760-2026-04-02T09:00:00+02:00-2026-04-02T13:30:00+02:00
DTSTART;TZID=Europe/Madrid:20260402T090000
DTEND;TZID=Europe/Madrid:20260402T133000
DESCRIPTION:Continuando con su programación expositiva\, el C.E.P.A. Escue
 las Verdes de Santander\, nos ofrece una exposición titulada "Mujeres en 
 la narrativa de Delibes".
SUMMARY:Mujeres en las narrativa de Delibes\, exposición
END:VEVENT
BEGIN:VEVENT
DTSTAMP:20260423T120515Z
UID:event-21760-2026-04-02T15:30:00+02:00-2026-04-02T20:00:00+02:00
DTSTART;TZID=Europe/Madrid:20260402T153000
DTEND;TZID=Europe/Madrid:20260402T200000
DESCRIPTION:Continuando con su programación expositiva\, el C.E.P.A. Escue
 las Verdes de Santander\, nos ofrece una exposición titulada "Mujeres en 
 la narrativa de Delibes".
SUMMARY:Mujeres en las narrativa de Delibes\, exposición
END:VEVENT
BEGIN:VEVENT
DTSTAMP:20260423T120515Z
UID:event-21760-2026-04-03T09:00:00+02:00-2026-04-03T13:30:00+02:00
DTSTART;TZID=Europe/Madrid:20260403T090000
DTEND;TZID=Europe/Madrid:20260403T133000
DESCRIPTION:Continuando con su programación expositiva\, el C.E.P.A. Escue
 las Verdes de Santander\, nos ofrece una exposición titulada "Mujeres en 
 la narrativa de Delibes".
SUMMARY:Mujeres en las narrativa de Delibes\, exposición
END:VEVENT
BEGIN:VEVENT
DTSTAMP:20260423T120515Z
UID:event-21760-2026-04-06T09:00:00+02:00-2026-04-06T13:30:00+02:00
DTSTART;TZID=Europe/Madrid:20260406T090000
DTEND;TZID=Europe/Madrid:20260406T133000
DESCRIPTION:Continuando con su programación expositiva\, el C.E.P.A. Escue
 las Verdes de Santander\, nos ofrece una exposición titulada "Mujeres en 
 la narrativa de Delibes".
SUMMARY:Mujeres en las narrativa de Delibes\, exposición
END:VEVENT
BEGIN:VEVENT
DTSTAMP:20260423T120515Z
UID:event-21760-2026-04-06T15:30:00+02:00-2026-04-06T20:00:00+02:00
DTSTART;TZID=Europe/Madrid:20260406T153000
DTEND;TZID=Europe/Madrid:20260406T200000
DESCRIPTION:Continuando con su programación expositiva\, el C.E.P.A. Escue
 las Verdes de Santander\, nos ofrece una exposición titulada "Mujeres en 
 la narrativa de Delibes".
SUMMARY:Mujeres en las narrativa de Delibes\, exposición
END:VEVENT
BEGIN:VEVENT
DTSTAMP:20260423T120515Z
UID:event-21760-2026-04-07T09:00:00+02:00-2026-04-07T13:30:00+02:00
DTSTART;TZID=Europe/Madrid:20260407T090000
DTEND;TZID=Europe/Madrid:20260407T133000
DESCRIPTION:Continuando con su programación expositiva\, el C.E.P.A. Escue
 las Verdes de Santander\, nos ofrece una exposición titulada "Mujeres en 
 la narrativa de Delibes".
SUMMARY:Mujeres en las narrativa de Delibes\, exposición
END:VEVENT
BEGIN:VEVENT
DTSTAMP:20260423T120515Z
UID:event-21760-2026-04-07T15:30:00+02:00-2026-04-07T20:00:00+02:00
DTSTART;TZID=Europe/Madrid:20260407T153000
DTEND;TZID=Europe/Madrid:20260407T200000
DESCRIPTION:Continuando con su programación expositiva\, el C.E.P.A. Escue
 las Verdes de Santander\, nos ofrece una exposición titulada "Mujeres en 
 la narrativa de Delibes".
SUMMARY:Mujeres en las narrativa de Delibes\, exposición
END:VEVENT
BEGIN:VEVENT
DTSTAMP:20260423T120515Z
UID:event-21760-2026-04-08T09:00:00+02:00-2026-04-08T13:30:00+02:00
DTSTART;TZID=Europe/Madrid:20260408T090000
DTEND;TZID=Europe/Madrid:20260408T133000
DESCRIPTION:Continuando con su programación expositiva\, el C.E.P.A. Escue
 las Verdes de Santander\, nos ofrece una exposición titulada "Mujeres en 
 la narrativa de Delibes".
SUMMARY:Mujeres en las narrativa de Delibes\, exposición
END:VEVENT
BEGIN:VEVENT
DTSTAMP:20260423T120515Z
UID:event-21760-2026-04-08T15:30:00+02:00-2026-04-08T20:00:00+02:00
DTSTART;TZID=Europe/Madrid:20260408T153000
DTEND;TZID=Europe/Madrid:20260408T200000
DESCRIPTION:Continuando con su programación expositiva\, el C.E.P.A. Escue
 las Verdes de Santander\, nos ofrece una exposición titulada "Mujeres en 
 la narrativa de Delibes".
SUMMARY:Mujeres en las narrativa de Delibes\, exposición
END:VEVENT
BEGIN:VEVENT
DTSTAMP:20260423T120515Z
UID:event-21760-2026-04-09T09:00:00+02:00-2026-04-09T13:30:00+02:00
DTSTART;TZID=Europe/Madrid:20260409T090000
DTEND;TZID=Europe/Madrid:20260409T133000
DESCRIPTION:Continuando con su programación expositiva\, el C.E.P.A. Escue
 las Verdes de Santander\, nos ofrece una exposición titulada "Mujeres en 
 la narrativa de Delibes".
SUMMARY:Mujeres en las narrativa de Delibes\, exposición
END:VEVENT
BEGIN:VEVENT
DTSTAMP:20260423T120515Z
UID:event-21760-2026-04-09T15:30:00+02:00-2026-04-09T20:00:00+02:00
DTSTART;TZID=Europe/Madrid:20260409T153000
DTEND;TZID=Europe/Madrid:20260409T200000
DESCRIPTION:Continuando con su programación expositiva\, el C.E.P.A. Escue
 las Verdes de Santander\, nos ofrece una exposición titulada "Mujeres en 
 la narrativa de Delibes".
SUMMARY:Mujeres en las narrativa de Delibes\, exposición
END:VEVENT
BEGIN:VEVENT
DTSTAMP:20260423T120515Z
UID:event-21760-2026-04-10T09:00:00+02:00-2026-04-10T13:30:00+02:00
DTSTART;TZID=Europe/Madrid:20260410T090000
DTEND;TZID=Europe/Madrid:20260410T133000
DESCRIPTION:Continuando con su programación expositiva\, el C.E.P.A. Escue
 las Verdes de Santander\, nos ofrece una exposición titulada "Mujeres en 
 la narrativa de Delibes".
SUMMARY:Mujeres en las narrativa de Delibes\, exposición
END:VEVENT
END:VCALENDAR
