BEGIN:VCALENDAR
VERSION:2.0
PRODID:icalendar-ruby
CALSCALE:GREGORIAN
METHOD:PUBLISH
BEGIN:VEVENT
DTSTAMP:20260421T191711Z
UID:event-21667-2026-04-24T18:30:00+02:00-none
DTSTART;TZID=Europe/Madrid:20260424T183000
DESCRIPTION:Lara Ferrari es una vocalista de jazz italiana que se distingue
  por su fuerte personalidad\, su refinada expresividad y su profunda conex
 ión con la tradición del jazz. Cantará acompañada del Trío Europa\, u
 na extraordinaria sección rítmica.
SUMMARY:Música abierta: Lara Ferrari & Trío Europa
END:VEVENT
BEGIN:VEVENT
DTSTAMP:20260421T191711Z
UID:event-21667-2026-04-24T20:30:00+02:00-none
DTSTART;TZID=Europe/Madrid:20260424T203000
DESCRIPTION:Lara Ferrari es una vocalista de jazz italiana que se distingue
  por su fuerte personalidad\, su refinada expresividad y su profunda conex
 ión con la tradición del jazz. Cantará acompañada del Trío Europa\, u
 na extraordinaria sección rítmica.
SUMMARY:Música abierta: Lara Ferrari & Trío Europa
END:VEVENT
END:VCALENDAR
