BEGIN:VCALENDAR
VERSION:2.0
PRODID:icalendar-ruby
CALSCALE:GREGORIAN
METHOD:PUBLISH
BEGIN:VEVENT
DTSTAMP:20260423T044516Z
UID:event-22229-2026-04-25T19:30:00+02:00-none
DTSTART;TZID=Europe/Madrid:20260425T193000
DESCRIPTION:El sábado 25 de abril a las 19\,30 horas\, tendrá lugar la se
 xta y última cita del ciclo de monólogos del Cine Los Ángeles. Subirá 
 al escenario el cómico madrileño Nacho Punto G con su monologo “Vivo e
 ntre mujeres”. 
SUMMARY:Nacho Punto G sube al escenario de Los Ángeles con su monólogo 
 “Vivo entre mujeres”
END:VEVENT
END:VCALENDAR
